BEGIN:VCALENDAR
VERSION:2.0
PRODID:-//Szkolenia SBP dla Bibliotekarzy - ECPv5.16.1.1//NONSGML v1.0//EN
CALSCALE:GREGORIAN
METHOD:PUBLISH
X-ORIGINAL-URL:https://szkoleniadlabibliotekarzy.sbp.pl
X-WR-CALDESC:Events for Szkolenia SBP dla Bibliotekarzy
REFRESH-INTERVAL;VALUE=DURATION:PT1H
X-Robots-Tag:noindex
X-PUBLISHED-TTL:PT1H
BEGIN:VTIMEZONE
TZID:Europe/Warsaw
BEGIN:DAYLIGHT
TZOFFSETFROM:+0100
TZOFFSETTO:+0200
TZNAME:CEST
DTSTART:20260329T010000
END:DAYLIGHT
BEGIN:STANDARD
TZOFFSETFROM:+0200
TZOFFSETTO:+0100
TZNAME:CET
DTSTART:20261025T010000
END:STANDARD
END:VTIMEZONE
BEGIN:VEVENT
DTSTART;TZID=Europe/Warsaw:20260408T100000
DTEND;TZID=Europe/Warsaw:20260408T120000
DTSTAMP:20260420T125548
CREATED:20220407T120931Z
LAST-MODIFIED:20260304T222754Z
UID:2354-1775642400-1775649600@szkoleniadlabibliotekarzy.sbp.pl
SUMMARY:Kreatywne formy promocji książki i czytelnictwa w bibliotekach
DESCRIPTION:Szkolenie poprowadzi dr Wanda Matras-Mastalerz \nOpis szkolenia i zapisy
URL:https://szkoleniadlabibliotekarzy.sbp.pl/event/kreatywne-formy-promocji-ksiazki-i-czytelnictwa-w-bibliotekach/
CATEGORIES:Szkolenia online
ATTACH;FMTTYPE=image/jpeg:https://szkoleniadlabibliotekarzy.sbp.pl/wp-content/uploads/2022/03/kreatywne.jpg
END:VEVENT
BEGIN:VEVENT
DTSTART;TZID=Europe/Warsaw:20260408T100000
DTEND;TZID=Europe/Warsaw:20260408T123000
DTSTAMP:20260420T125548
CREATED:20231120T183607Z
LAST-MODIFIED:20260224T140943Z
UID:3555-1775642400-1775651400@szkoleniadlabibliotekarzy.sbp.pl
SUMMARY:Organizacja kolekcji cyfrowych w instytucjach sektora GLAM
DESCRIPTION:Szkolenie poprowadzi dr  Leszek Szafrański \nOpis szkolenia i zapisy
URL:https://szkoleniadlabibliotekarzy.sbp.pl/event/organizacja-kolekcji-cyfrowych-w-instytucjach-sektora-glam-2/
CATEGORIES:Szkolenia online
ATTACH;FMTTYPE=image/jpeg:https://szkoleniadlabibliotekarzy.sbp.pl/wp-content/uploads/2023/11/organizacja_kolekcji.jpg
END:VEVENT
BEGIN:VEVENT
DTSTART;TZID=Europe/Warsaw:20260408T130000
DTEND;TZID=Europe/Warsaw:20260408T150000
DTSTAMP:20260420T125548
CREATED:20250616T050835Z
LAST-MODIFIED:20260216T112803Z
UID:4799-1775653200-1775660400@szkoleniadlabibliotekarzy.sbp.pl
SUMMARY:Mała biblioteka – duży efekt. Jak działać nowocześnie i z klasą\, nie mając wielkiego budżetu?
DESCRIPTION:Szkolenie prowadzi Rafał Hetman \nOpis szkolenia i zapisy
URL:https://szkoleniadlabibliotekarzy.sbp.pl/event/mala-biblioteka-duzy-efekt-jak-dzialac-nowoczesnie-i-z-klasa-nie-majac-wielkiego-budzetu/
LOCATION:Online
CATEGORIES:Szkolenia online
ATTACH;FMTTYPE=image/png:https://szkoleniadlabibliotekarzy.sbp.pl/wp-content/uploads/2025/06/mala-biblioteka.png
END:VEVENT
END:VCALENDAR