BEGIN:VCALENDAR
VERSION:2.0
PRODID:-//Szkolenia SBP dla Bibliotekarzy - ECPv5.16.1.1//NONSGML v1.0//EN
CALSCALE:GREGORIAN
METHOD:PUBLISH
X-ORIGINAL-URL:https://szkoleniadlabibliotekarzy.sbp.pl
X-WR-CALDESC:Events for Szkolenia SBP dla Bibliotekarzy
REFRESH-INTERVAL;VALUE=DURATION:PT1H
X-Robots-Tag:noindex
X-PUBLISHED-TTL:PT1H
BEGIN:VTIMEZONE
TZID:Europe/Warsaw
BEGIN:DAYLIGHT
TZOFFSETFROM:+0100
TZOFFSETTO:+0200
TZNAME:CEST
DTSTART:20260329T010000
END:DAYLIGHT
BEGIN:STANDARD
TZOFFSETFROM:+0200
TZOFFSETTO:+0100
TZNAME:CET
DTSTART:20261025T010000
END:STANDARD
END:VTIMEZONE
BEGIN:VEVENT
DTSTART;TZID=Europe/Warsaw:20260414T100000
DTEND;TZID=Europe/Warsaw:20260414T120000
DTSTAMP:20260420T125622
CREATED:20230109T172335Z
LAST-MODIFIED:20260326T133520Z
UID:2889-1776160800-1776168000@szkoleniadlabibliotekarzy.sbp.pl
SUMMARY:Instrukcja kancelaryjna (IK) i jednolity rzeczowy wykaz akt (JRWA) w bibliotece
DESCRIPTION:Szkolenie poprowadzi Karol Ciechoński \nOpis szkolenia i zapisy
URL:https://szkoleniadlabibliotekarzy.sbp.pl/event/instrukcja-kancelaryjna/
LOCATION:Online
CATEGORIES:Szkolenia online
ATTACH;FMTTYPE=image/png:https://szkoleniadlabibliotekarzy.sbp.pl/wp-content/uploads/2026/03/instrukcja_kacelaryjna_AkademiaSBP.png
END:VEVENT
BEGIN:VEVENT
DTSTART;TZID=Europe/Warsaw:20260414T100000
DTEND;TZID=Europe/Warsaw:20260414T123000
DTSTAMP:20260420T125622
CREATED:20250508T075519Z
LAST-MODIFIED:20251228T192947Z
UID:4617-1776160800-1776169800@szkoleniadlabibliotekarzy.sbp.pl
SUMMARY:Zarządzanie danymi badawczymi – zagadnienia podstawowe
DESCRIPTION:Szkolenie prowadzi dr Leszek Szafrański \nOpis szkolenia i zapisy
URL:https://szkoleniadlabibliotekarzy.sbp.pl/event/zarzadzanie-danymi-badawczymi-zagadnienia-podstawowe/
LOCATION:Online
CATEGORIES:Szkolenia online
ATTACH;FMTTYPE=image/png:https://szkoleniadlabibliotekarzy.sbp.pl/wp-content/uploads/2025/05/zarzadzanie-danymi1.png
END:VEVENT
END:VCALENDAR