BEGIN:VCALENDAR
VERSION:2.0
PRODID:-//Szkolenia SBP dla Bibliotekarzy - ECPv5.16.1.1//NONSGML v1.0//EN
CALSCALE:GREGORIAN
METHOD:PUBLISH
X-WR-CALNAME:Szkolenia SBP dla Bibliotekarzy
X-ORIGINAL-URL:https://szkoleniadlabibliotekarzy.sbp.pl
X-WR-CALDESC:Events for Szkolenia SBP dla Bibliotekarzy
REFRESH-INTERVAL;VALUE=DURATION:PT1H
X-Robots-Tag:noindex
X-PUBLISHED-TTL:PT1H
BEGIN:VTIMEZONE
TZID:Europe/Warsaw
BEGIN:DAYLIGHT
TZOFFSETFROM:+0100
TZOFFSETTO:+0200
TZNAME:CEST
DTSTART:20260329T010000
END:DAYLIGHT
BEGIN:STANDARD
TZOFFSETFROM:+0200
TZOFFSETTO:+0100
TZNAME:CET
DTSTART:20261025T010000
END:STANDARD
END:VTIMEZONE
BEGIN:VEVENT
DTSTART;TZID=Europe/Warsaw:20260416T110000
DTEND;TZID=Europe/Warsaw:20260416T140000
DTSTAMP:20260420T130225
CREATED:20251014T094227Z
LAST-MODIFIED:20260311T122113Z
UID:5088-1776337200-1776348000@szkoleniadlabibliotekarzy.sbp.pl
SUMMARY:Biblioteka jako organizacja. „Turkusowy” styl kształtowania kultury organizacyjnej
DESCRIPTION:Szkolenie prowadzi dr Aneta Januszko-Szakiel \nOpis szkolenia i zapisy
URL:https://szkoleniadlabibliotekarzy.sbp.pl/event/biblioteka-jako-organizacja-turkusowy-styl-ksztaltowania-kultury-organizacyjnej/
LOCATION:Online
CATEGORIES:Szkolenia online
ATTACH;FMTTYPE=image/png:https://szkoleniadlabibliotekarzy.sbp.pl/wp-content/uploads/2025/10/turkus_kultura_org.png
END:VEVENT
END:VCALENDAR