BEGIN:VCALENDAR
VERSION:2.0
PRODID:-//Szkolenia SBP dla Bibliotekarzy - ECPv5.16.1.1//NONSGML v1.0//EN
CALSCALE:GREGORIAN
METHOD:PUBLISH
X-ORIGINAL-URL:https://szkoleniadlabibliotekarzy.sbp.pl
X-WR-CALDESC:Events for Szkolenia SBP dla Bibliotekarzy
REFRESH-INTERVAL;VALUE=DURATION:PT1H
X-Robots-Tag:noindex
X-PUBLISHED-TTL:PT1H
BEGIN:VTIMEZONE
TZID:Europe/Warsaw
BEGIN:DAYLIGHT
TZOFFSETFROM:+0100
TZOFFSETTO:+0200
TZNAME:CEST
DTSTART:20260329T010000
END:DAYLIGHT
BEGIN:STANDARD
TZOFFSETFROM:+0200
TZOFFSETTO:+0100
TZNAME:CET
DTSTART:20261025T010000
END:STANDARD
END:VTIMEZONE
BEGIN:VEVENT
DTSTART;TZID=Europe/Warsaw:20260421T100000
DTEND;TZID=Europe/Warsaw:20260421T123000
DTSTAMP:20260420T125623
CREATED:20241017T080331Z
LAST-MODIFIED:20260407T080924Z
UID:4121-1776765600-1776774600@szkoleniadlabibliotekarzy.sbp.pl
SUMMARY:Twórz cyfrowe historie: jak korzystać z darmowych narzędzi do odkrywania dziedzictwa kulturowego
DESCRIPTION:Szkolenie poprowadzi Dominik Mirosław Piotrowski \nOpis szkolenia i zapisy
URL:https://szkoleniadlabibliotekarzy.sbp.pl/event/kuratorowanie-przestrzeni-za-pomoca-otwartozrodlowego-curatescape/
LOCATION:Online
CATEGORIES:Szkolenia online
ATTACH;FMTTYPE=image/jpeg:https://szkoleniadlabibliotekarzy.sbp.pl/wp-content/uploads/2024/12/Curatescape_opensm.jpg
END:VEVENT
END:VCALENDAR