BEGIN:VCALENDAR
VERSION:2.0
PRODID:-//Szkolenia SBP dla Bibliotekarzy - ECPv5.16.1.1//NONSGML v1.0//EN
CALSCALE:GREGORIAN
METHOD:PUBLISH
X-ORIGINAL-URL:https://szkoleniadlabibliotekarzy.sbp.pl
X-WR-CALDESC:Events for Szkolenia SBP dla Bibliotekarzy
REFRESH-INTERVAL;VALUE=DURATION:PT1H
X-Robots-Tag:noindex
X-PUBLISHED-TTL:PT1H
BEGIN:VTIMEZONE
TZID:Europe/Warsaw
BEGIN:DAYLIGHT
TZOFFSETFROM:+0100
TZOFFSETTO:+0200
TZNAME:CEST
DTSTART:20220327T010000
END:DAYLIGHT
BEGIN:STANDARD
TZOFFSETFROM:+0200
TZOFFSETTO:+0100
TZNAME:CET
DTSTART:20221030T010000
END:STANDARD
END:VTIMEZONE
BEGIN:VEVENT
DTSTART;TZID=Europe/Warsaw:20221118T100000
DTEND;TZID=Europe/Warsaw:20221118T150000
DTSTAMP:20260420T143841
CREATED:20221018T120521Z
LAST-MODIFIED:20221018T120521Z
UID:2670-1668765600-1668783600@szkoleniadlabibliotekarzy.sbp.pl
SUMMARY:Biblioterapia i bajkoterapia jako narzędzie edukacyjne\, terapeutyczne i wychowawcze w pracy z dziećmi i młodzieżą | Warszawa
DESCRIPTION:Szkolenie poprowadzi dr Wanda Matras-Mastalerz \nOpis szkolenia i zapisy
URL:https://szkoleniadlabibliotekarzy.sbp.pl/event/biblioterapia-i-bajkoterapia-jako-narzedzie-edukacyjne-terapeutyczne-i-wychowawcze-w-pracy-z-dziecmi-i-mlodzieza-warszawa/
CATEGORIES:Szkolenia stacjonarne
ATTACH;FMTTYPE=image/jpeg:https://szkoleniadlabibliotekarzy.sbp.pl/wp-content/uploads/2022/10/biblioterapia_bajkoterapia.jpg
END:VEVENT
END:VCALENDAR