BEGIN:VCALENDAR
VERSION:2.0
PRODID:-//Szkolenia SBP dla Bibliotekarzy - ECPv5.16.1.1//NONSGML v1.0//EN
CALSCALE:GREGORIAN
METHOD:PUBLISH
X-WR-CALNAME:Szkolenia SBP dla Bibliotekarzy
X-ORIGINAL-URL:https://szkoleniadlabibliotekarzy.sbp.pl
X-WR-CALDESC:Events for Szkolenia SBP dla Bibliotekarzy
REFRESH-INTERVAL;VALUE=DURATION:PT1H
X-Robots-Tag:noindex
X-PUBLISHED-TTL:PT1H
BEGIN:VTIMEZONE
TZID:Europe/Warsaw
BEGIN:DAYLIGHT
TZOFFSETFROM:+0100
TZOFFSETTO:+0200
TZNAME:CEST
DTSTART:20260329T010000
END:DAYLIGHT
BEGIN:STANDARD
TZOFFSETFROM:+0200
TZOFFSETTO:+0100
TZNAME:CET
DTSTART:20261025T010000
END:STANDARD
END:VTIMEZONE
BEGIN:VEVENT
DTSTART;VALUE=DATE:20260429
DTEND;VALUE=DATE:20260710
DTSTAMP:20260420T160600
CREATED:20250728T062656Z
LAST-MODIFIED:20260402T092726Z
UID:2619-1777420800-1783641599@szkoleniadlabibliotekarzy.sbp.pl
SUMMARY:Deskryptory Biblioteki Narodowej | Kurs online | 7 edycja
DESCRIPTION:Kurs poprowadzi Agata Kyzioł-Cieślak \nOpis szkolenia i zapisy
URL:https://szkoleniadlabibliotekarzy.sbp.pl/event/deskryptory-biblioteki-narodowej-kurs-online-43-edycja/
LOCATION:Online
CATEGORIES:Kurs online,Szkolenia online
ATTACH;FMTTYPE=image/png:https://szkoleniadlabibliotekarzy.sbp.pl/wp-content/uploads/2024/01/deskryptory-5.png
END:VEVENT
BEGIN:VEVENT
DTSTART;TZID=Europe/Warsaw:20260605T090000
DTEND;TZID=Europe/Warsaw:20260605T110000
DTSTAMP:20260420T160600
CREATED:20250816T050809Z
LAST-MODIFIED:20260215T193427Z
UID:4766-1780650000-1780657200@szkoleniadlabibliotekarzy.sbp.pl
SUMMARY:Jak uniknąć oszustw w sieci: Praktyczny przewodnik
DESCRIPTION:Szkolenie prowadzi Gabriela Sieczkowska \nOpis szkolenia i zapisy
URL:https://szkoleniadlabibliotekarzy.sbp.pl/event/jak-uniknac-oszustw-w-sieci-praktyczny-przewodnik/
LOCATION:Online
CATEGORIES:Szkolenia online
ATTACH;FMTTYPE=image/png:https://szkoleniadlabibliotekarzy.sbp.pl/wp-content/uploads/2025/06/jak-uniknac_oszustwa1.png
END:VEVENT
BEGIN:VEVENT
DTSTART;TZID=Europe/Warsaw:20260616T100000
DTEND;TZID=Europe/Warsaw:20260616T120000
DTSTAMP:20260420T160600
CREATED:20260413T123257Z
LAST-MODIFIED:20260413T123257Z
UID:5459-1781604000-1781611200@szkoleniadlabibliotekarzy.sbp.pl
SUMMARY:Centralny Rejestr Umów w instytucji kultury
DESCRIPTION:Prowadzi: Karol Ciechoński \nOpis szkolenia i zapisy
URL:https://szkoleniadlabibliotekarzy.sbp.pl/event/centralny-rejestr-umow-w-instytucji-kultury/
LOCATION:Online
CATEGORIES:Szkolenia online
ATTACH;FMTTYPE=image/png:https://szkoleniadlabibliotekarzy.sbp.pl/wp-content/uploads/2026/04/CRU_1200px1.png
END:VEVENT
END:VCALENDAR