BEGIN:VCALENDAR
VERSION:2.0
PRODID:-//Szkolenia SBP dla Bibliotekarzy - ECPv5.16.1.1//NONSGML v1.0//EN
CALSCALE:GREGORIAN
METHOD:PUBLISH
X-ORIGINAL-URL:https://szkoleniadlabibliotekarzy.sbp.pl
X-WR-CALDESC:Events for Szkolenia SBP dla Bibliotekarzy
REFRESH-INTERVAL;VALUE=DURATION:PT1H
X-Robots-Tag:noindex
X-PUBLISHED-TTL:PT1H
BEGIN:VTIMEZONE
TZID:Europe/Warsaw
BEGIN:DAYLIGHT
TZOFFSETFROM:+0100
TZOFFSETTO:+0200
TZNAME:CEST
DTSTART:20260329T010000
END:DAYLIGHT
BEGIN:STANDARD
TZOFFSETFROM:+0200
TZOFFSETTO:+0100
TZNAME:CET
DTSTART:20261025T010000
END:STANDARD
END:VTIMEZONE
BEGIN:VEVENT
DTSTART;VALUE=DATE:20260429
DTEND;VALUE=DATE:20260710
DTSTAMP:20260420T143643
CREATED:20250728T062656Z
LAST-MODIFIED:20260402T092726Z
UID:2619-1777420800-1783641599@szkoleniadlabibliotekarzy.sbp.pl
SUMMARY:Deskryptory Biblioteki Narodowej | Kurs online | 7 edycja
DESCRIPTION:Kurs poprowadzi Agata Kyzioł-Cieślak \nOpis szkolenia i zapisy
URL:https://szkoleniadlabibliotekarzy.sbp.pl/event/deskryptory-biblioteki-narodowej-kurs-online-43-edycja/
LOCATION:Online
CATEGORIES:Kurs online,Szkolenia online
ATTACH;FMTTYPE=image/png:https://szkoleniadlabibliotekarzy.sbp.pl/wp-content/uploads/2024/01/deskryptory-5.png
END:VEVENT
BEGIN:VEVENT
DTSTART;TZID=Europe/Warsaw:20260430T100000
DTEND;TZID=Europe/Warsaw:20260430T120000
DTSTAMP:20260420T143643
CREATED:20250924T090226Z
LAST-MODIFIED:20260317T074700Z
UID:4990-1777543200-1777550400@szkoleniadlabibliotekarzy.sbp.pl
SUMMARY:Myśl jak projektant
DESCRIPTION:Szkolenie prowadzi Beata Gamrowska \nOpis szkolenia i zapisy
URL:https://szkoleniadlabibliotekarzy.sbp.pl/event/mysl-jak-projektant/
LOCATION:Online
CATEGORIES:Szkolenia online
ATTACH;FMTTYPE=image/png:https://szkoleniadlabibliotekarzy.sbp.pl/wp-content/uploads/2025/09/mysl-jak-projektant.png
END:VEVENT
BEGIN:VEVENT
DTSTART;TZID=Europe/Warsaw:20260512T100000
DTEND;TZID=Europe/Warsaw:20260512T120000
DTSTAMP:20260420T143643
CREATED:20250616T050830Z
LAST-MODIFIED:20260409T061112Z
UID:4770-1778580000-1778587200@szkoleniadlabibliotekarzy.sbp.pl
SUMMARY:Doręczenia elektroniczne w bibliotece
DESCRIPTION:Szkolenie prowadzi Karol Ciechoński \nOpis szkolenia i zapisy
URL:https://szkoleniadlabibliotekarzy.sbp.pl/event/doreczenia-elektroniczne-w-bibliotece-2/
LOCATION:Online
CATEGORIES:Szkolenia online
ATTACH;FMTTYPE=image/png:https://szkoleniadlabibliotekarzy.sbp.pl/wp-content/uploads/2024/02/e-doreczenia.png
END:VEVENT
BEGIN:VEVENT
DTSTART;TZID=Europe/Warsaw:20260513T150000
DTEND;TZID=Europe/Warsaw:20260521T170000
DTSTAMP:20260420T143643
CREATED:20241104T205220Z
LAST-MODIFIED:20260304T185449Z
UID:4174-1778684400-1779382800@szkoleniadlabibliotekarzy.sbp.pl
SUMMARY:DBN-y i MARC 21 w pigułce
DESCRIPTION:Kurs poprowadzi Agata Kyzioł-Cieślak \nOpis szkolenia i zapisy
URL:https://szkoleniadlabibliotekarzy.sbp.pl/event/dbn-y-i-marc-21-w-pigulce/
CATEGORIES:Szkolenia online
ATTACH;FMTTYPE=image/png:https://szkoleniadlabibliotekarzy.sbp.pl/wp-content/uploads/2024/11/kurs_marc21_DBN.png
END:VEVENT
BEGIN:VEVENT
DTSTART;TZID=Europe/Warsaw:20260514T100000
DTEND;TZID=Europe/Warsaw:20260514T120000
DTSTAMP:20260420T143643
CREATED:20260323T114318Z
LAST-MODIFIED:20260323T114325Z
UID:5428-1778752800-1778760000@szkoleniadlabibliotekarzy.sbp.pl
SUMMARY:Biblioteka współtworzona — jak oddać głos użytkownikom i zbudować instytucję\, do której chce się wracać
DESCRIPTION:Prowadzi: Beata Gamrowska \nOpis szkolenia i zapisy
URL:https://szkoleniadlabibliotekarzy.sbp.pl/event/biblioteka-wspoltworzona-jak-oddac-glos-uzytkownikom-i-zbudowac-instytucje-do-ktorej-chce-sie-wracac/
LOCATION:Online
CATEGORIES:Szkolenia online
ATTACH;FMTTYPE=image/png:https://szkoleniadlabibliotekarzy.sbp.pl/wp-content/uploads/2026/03/biblioteka-wspoltworzona.png
END:VEVENT
BEGIN:VEVENT
DTSTART;TZID=Europe/Warsaw:20260520T100000
DTEND;TZID=Europe/Warsaw:20260520T120000
DTSTAMP:20260420T143643
CREATED:20250924T085625Z
LAST-MODIFIED:20260415T133802Z
UID:4988-1779271200-1779278400@szkoleniadlabibliotekarzy.sbp.pl
SUMMARY:Jak sprawić\, aby o nas mówili – promocja w bibliotece
DESCRIPTION:Szkolenie prowadzi Beata Gamrowska \nOpis szkolenia i zapisy
URL:https://szkoleniadlabibliotekarzy.sbp.pl/event/jak-sprawic-aby-o-nas-mowili-promocja-w-bibliotece/
LOCATION:Online
CATEGORIES:Szkolenia online
ATTACH;FMTTYPE=image/png:https://szkoleniadlabibliotekarzy.sbp.pl/wp-content/uploads/2025/09/jak-sprawic.png
END:VEVENT
BEGIN:VEVENT
DTSTART;TZID=Europe/Warsaw:20260605T090000
DTEND;TZID=Europe/Warsaw:20260605T110000
DTSTAMP:20260420T143643
CREATED:20250816T050809Z
LAST-MODIFIED:20260215T193427Z
UID:4766-1780650000-1780657200@szkoleniadlabibliotekarzy.sbp.pl
SUMMARY:Jak uniknąć oszustw w sieci: Praktyczny przewodnik
DESCRIPTION:Szkolenie prowadzi Gabriela Sieczkowska \nOpis szkolenia i zapisy
URL:https://szkoleniadlabibliotekarzy.sbp.pl/event/jak-uniknac-oszustw-w-sieci-praktyczny-przewodnik/
LOCATION:Online
CATEGORIES:Szkolenia online
ATTACH;FMTTYPE=image/png:https://szkoleniadlabibliotekarzy.sbp.pl/wp-content/uploads/2025/06/jak-uniknac_oszustwa1.png
END:VEVENT
BEGIN:VEVENT
DTSTART;TZID=Europe/Warsaw:20260616T100000
DTEND;TZID=Europe/Warsaw:20260616T120000
DTSTAMP:20260420T143643
CREATED:20260413T123257Z
LAST-MODIFIED:20260413T123257Z
UID:5459-1781604000-1781611200@szkoleniadlabibliotekarzy.sbp.pl
SUMMARY:Centralny Rejestr Umów w instytucji kultury
DESCRIPTION:Prowadzi: Karol Ciechoński \nOpis szkolenia i zapisy
URL:https://szkoleniadlabibliotekarzy.sbp.pl/event/centralny-rejestr-umow-w-instytucji-kultury/
LOCATION:Online
CATEGORIES:Szkolenia online
ATTACH;FMTTYPE=image/png:https://szkoleniadlabibliotekarzy.sbp.pl/wp-content/uploads/2026/04/CRU_1200px1.png
END:VEVENT
END:VCALENDAR