BEGIN:VCALENDAR
VERSION:2.0
PRODID:-//Szkolenia SBP dla Bibliotekarzy - ECPv5.16.1.1//NONSGML v1.0//EN
CALSCALE:GREGORIAN
METHOD:PUBLISH
X-WR-CALNAME:Szkolenia SBP dla Bibliotekarzy
X-ORIGINAL-URL:https://szkoleniadlabibliotekarzy.sbp.pl
X-WR-CALDESC:Events for Szkolenia SBP dla Bibliotekarzy
REFRESH-INTERVAL;VALUE=DURATION:PT1H
X-Robots-Tag:noindex
X-PUBLISHED-TTL:PT1H
BEGIN:VTIMEZONE
TZID:Europe/Warsaw
BEGIN:DAYLIGHT
TZOFFSETFROM:+0100
TZOFFSETTO:+0200
TZNAME:CEST
DTSTART:20250330T010000
END:DAYLIGHT
BEGIN:STANDARD
TZOFFSETFROM:+0200
TZOFFSETTO:+0100
TZNAME:CET
DTSTART:20251026T010000
END:STANDARD
BEGIN:DAYLIGHT
TZOFFSETFROM:+0100
TZOFFSETTO:+0200
TZNAME:CEST
DTSTART:20260329T010000
END:DAYLIGHT
BEGIN:STANDARD
TZOFFSETFROM:+0200
TZOFFSETTO:+0100
TZNAME:CET
DTSTART:20261025T010000
END:STANDARD
END:VTIMEZONE
BEGIN:VEVENT
DTSTART;TZID=Europe/Warsaw:20260210T100000
DTEND;TZID=Europe/Warsaw:20260210T120000
DTSTAMP:20260420T114515
CREATED:20260105T093218Z
LAST-MODIFIED:20260105T095408Z
UID:5195-1770717600-1770724800@szkoleniadlabibliotekarzy.sbp.pl
SUMMARY:EZD – Elektroniczne Zarządzanie Dokumentacją
DESCRIPTION:Szkolenie prowadzi Karol Ciechoński \nOpis szkolenia i zapisy
URL:https://szkoleniadlabibliotekarzy.sbp.pl/event/ezd-elektroniczne-zarzadzanie-dokumentacja/
LOCATION:Online
CATEGORIES:Szkolenia online
ATTACH;FMTTYPE=image/png:https://szkoleniadlabibliotekarzy.sbp.pl/wp-content/uploads/2026/01/EZD.png
END:VEVENT
BEGIN:VEVENT
DTSTART;TZID=Europe/Warsaw:20260209T100000
DTEND;TZID=Europe/Warsaw:20260209T120000
DTSTAMP:20260420T114515
CREATED:20250910T094550Z
LAST-MODIFIED:20251229T114635Z
UID:4957-1770631200-1770638400@szkoleniadlabibliotekarzy.sbp.pl
SUMMARY:Zaproś przyrodę do Biblioteki
DESCRIPTION:Szkolenie prowadzi: Mateusz Paradowski \nOpis szkolenia i zapisy
URL:https://szkoleniadlabibliotekarzy.sbp.pl/event/zapros-przyrode-do-biblioteki/
LOCATION:Online
CATEGORIES:Szkolenia online
ATTACH;FMTTYPE=image/png:https://szkoleniadlabibliotekarzy.sbp.pl/wp-content/uploads/2025/09/przyroda-w-bibliotece.png
END:VEVENT
BEGIN:VEVENT
DTSTART;TZID=Europe/Warsaw:20260204T130000
DTEND;TZID=Europe/Warsaw:20260204T150000
DTSTAMP:20260420T114515
CREATED:20260109T133251Z
LAST-MODIFIED:20260109T133306Z
UID:5247-1770210000-1770217200@szkoleniadlabibliotekarzy.sbp.pl
SUMMARY:Napisz (w końcu) historię swojej rodziny
DESCRIPTION:Szkolenie prowadzi Rafał Hetman \nOpis szkolenia i zapisy
URL:https://szkoleniadlabibliotekarzy.sbp.pl/event/napisz-w-koncu-historie-swojej-rodziny/
LOCATION:Online
CATEGORIES:Szkolenia online
ATTACH;FMTTYPE=image/png:https://szkoleniadlabibliotekarzy.sbp.pl/wp-content/uploads/2026/01/Historia_rodziny.png
END:VEVENT
BEGIN:VEVENT
DTSTART;TZID=Europe/Warsaw:20260204T100000
DTEND;TZID=Europe/Warsaw:20260204T120000
DTSTAMP:20260420T114515
CREATED:20250107T092959Z
LAST-MODIFIED:20260105T141144Z
UID:4268-1770199200-1770206400@szkoleniadlabibliotekarzy.sbp.pl
SUMMARY:Prowadzenie mediów społecznościowych biblioteki zgodnie z aktualnymi wymogami prawnymi (z wzorami dokumentów)
DESCRIPTION:Szkolenie poprowadzi dr Łukasz Wojciechowski \nOpis szkolenia i zapisy
URL:https://szkoleniadlabibliotekarzy.sbp.pl/event/prowadzenie-mediow-spolecznosciowych-biblioteki-zgodnie-z-aktualnymi-wymogami-prawnymi-z-wzorami-dokumentow/
LOCATION:Online
CATEGORIES:Szkolenia online
ATTACH;FMTTYPE=image/png:https://szkoleniadlabibliotekarzy.sbp.pl/wp-content/uploads/2025/01/Prowadzenie-mediow-spolecznosciowych-biblioteki.png
END:VEVENT
BEGIN:VEVENT
DTSTART;TZID=Europe/Warsaw:20260128T100000
DTEND;TZID=Europe/Warsaw:20260128T120000
DTSTAMP:20260420T114515
CREATED:20250616T050830Z
LAST-MODIFIED:20251229T123152Z
UID:4772-1769594400-1769601600@szkoleniadlabibliotekarzy.sbp.pl
SUMMARY:Instrukcja kancelaryjna
DESCRIPTION:Szkolenie prowadzi Karol Ciechoński \nOpis szkolenia i zapisy
URL:https://szkoleniadlabibliotekarzy.sbp.pl/event/instrukcja-kancelaryjna-2/
LOCATION:Online
CATEGORIES:Szkolenia online
ATTACH;FMTTYPE=image/png:https://szkoleniadlabibliotekarzy.sbp.pl/wp-content/uploads/2023/02/2-1.png
END:VEVENT
BEGIN:VEVENT
DTSTART;TZID=Europe/Warsaw:20260114T150000
DTEND;TZID=Europe/Warsaw:20260304T170000
DTSTAMP:20260420T114515
CREATED:20220923T112110Z
LAST-MODIFIED:20251128T122602Z
UID:2625-1768402800-1772643600@szkoleniadlabibliotekarzy.sbp.pl
SUMMARY:Format MARC21 – kurs online
DESCRIPTION:Kurs poprowadzi Agata Kyzioł-Cieślak \nOpis szkolenia i zapisy
URL:https://szkoleniadlabibliotekarzy.sbp.pl/event/format-marc21-kurs-online-4-edycja/
LOCATION:Online
CATEGORIES:Kurs online,Szkolenia online
ATTACH;FMTTYPE=image/jpeg:https://szkoleniadlabibliotekarzy.sbp.pl/wp-content/uploads/2021/02/marc21.jpg
END:VEVENT
BEGIN:VEVENT
DTSTART;TZID=Europe/Warsaw:20251212T120000
DTEND;TZID=Europe/Warsaw:20251212T140000
DTSTAMP:20260420T114515
CREATED:20250910T094939Z
LAST-MODIFIED:20251203T170527Z
UID:4961-1765540800-1765548000@szkoleniadlabibliotekarzy.sbp.pl
SUMMARY:Żywioły w bibliotece – ogień\, ziemia\, powietrze
DESCRIPTION:Szkolenie prowadzi: Mateusz Paradowski \nOpis szkolenia i zapisy
URL:https://szkoleniadlabibliotekarzy.sbp.pl/event/zywioly-w-bibliotece-ogien-ziemia-powietrze/
LOCATION:Online
CATEGORIES:Szkolenia online
ATTACH;FMTTYPE=image/png:https://szkoleniadlabibliotekarzy.sbp.pl/wp-content/uploads/2025/09/zywioly_w_bibliotece.png
END:VEVENT
BEGIN:VEVENT
DTSTART;TZID=Europe/Warsaw:20251210T100000
DTEND;TZID=Europe/Warsaw:20251210T120000
DTSTAMP:20260420T114515
CREATED:20220613T123632Z
LAST-MODIFIED:20251117T143423Z
UID:2506-1765360800-1765368000@szkoleniadlabibliotekarzy.sbp.pl
SUMMARY:Bibliotekarz kreatorem
DESCRIPTION:Szkolenie poprowadzi Beata Gamrowska \nOpis szkolenia i zapisy
URL:https://szkoleniadlabibliotekarzy.sbp.pl/event/bibliotekarz-kreatorem-2/
CATEGORIES:Szkolenia online
ATTACH;FMTTYPE=image/jpeg:https://szkoleniadlabibliotekarzy.sbp.pl/wp-content/uploads/2022/01/kreator.jpg
END:VEVENT
BEGIN:VEVENT
DTSTART;TZID=Europe/Warsaw:20251203T100000
DTEND;TZID=Europe/Warsaw:20251203T120000
DTSTAMP:20260420T114515
CREATED:20240905T084731Z
LAST-MODIFIED:20250925T095526Z
UID:3932-1764756000-1764763200@szkoleniadlabibliotekarzy.sbp.pl
SUMMARY:Standardy ochrony małoletnich i rekrutacja pracowników bibliotek - nowe wymogi prawne
DESCRIPTION:Szkolenie prowadzi dr Łukasz Wojciechowski \nOpis szkolenia i zapisy
URL:https://szkoleniadlabibliotekarzy.sbp.pl/event/standardy-ochrony-maloletnich-i-rekrutacja-pracownikow-bibliotek-nowe-wymogi-prawne/
LOCATION:Online
CATEGORIES:Szkolenia online
ATTACH;FMTTYPE=image/png:https://szkoleniadlabibliotekarzy.sbp.pl/wp-content/uploads/2024/09/ochrona-maloletnich.png
END:VEVENT
BEGIN:VEVENT
DTSTART;TZID=Europe/Warsaw:20251126T110000
DTEND;TZID=Europe/Warsaw:20251126T140000
DTSTAMP:20260420T114515
CREATED:20251014T094005Z
LAST-MODIFIED:20251014T094032Z
UID:5086-1764154800-1764165600@szkoleniadlabibliotekarzy.sbp.pl
SUMMARY:Biblioteka jako organizacja. „Turkusowy” styl zarządzania kulturą organizacyjną w bibliotekach
DESCRIPTION:Szkolenie prowadzi dr Aneta Januszko-Szakiel \nOpis szkolenia i zapisy
URL:https://szkoleniadlabibliotekarzy.sbp.pl/event/biblioteka-jako-organizacja-turkusowy-styl-zarzadzania-kultura-organizacyjna-w-bibliotekach/
LOCATION:Online
CATEGORIES:Szkolenia online
ATTACH;FMTTYPE=image/png:https://szkoleniadlabibliotekarzy.sbp.pl/wp-content/uploads/2025/10/turkus_zarzadzanie.png
END:VEVENT
BEGIN:VEVENT
DTSTART;TZID=Europe/Warsaw:20251126T100000
DTEND;TZID=Europe/Warsaw:20251126T120000
DTSTAMP:20260420T114515
CREATED:20250926T101226Z
LAST-MODIFIED:20250928T160057Z
UID:5031-1764151200-1764158400@szkoleniadlabibliotekarzy.sbp.pl
SUMMARY:Książka narzędziem wsparcia\, rozwoju i edukacji nastolatka
DESCRIPTION:Szkolenie prowadzi dr Wanda Matras-Mastalerz \nOpis szkolenia i zapisy
URL:https://szkoleniadlabibliotekarzy.sbp.pl/event/ksiazka-narzedziem-wsparcia-rozwoju-i-edukacji-nastolatka/
LOCATION:Online
CATEGORIES:Szkolenia online
ATTACH;FMTTYPE=image/png:https://szkoleniadlabibliotekarzy.sbp.pl/wp-content/uploads/2025/09/nastolatki_ksiazka.png
END:VEVENT
BEGIN:VEVENT
DTSTART;TZID=Europe/Warsaw:20251126T100000
DTEND;TZID=Europe/Warsaw:20251126T120000
DTSTAMP:20260420T114515
CREATED:20241001T082141Z
LAST-MODIFIED:20250925T095449Z
UID:4028-1764151200-1764158400@szkoleniadlabibliotekarzy.sbp.pl
SUMMARY:Warsztaty z kontroli zarządczej - wzory dokumentów i ich wypełnianie
DESCRIPTION:Szkolenie prowadzi dr Łukasz Wojciechowski \nOpis szkolenia i zapisy
URL:https://szkoleniadlabibliotekarzy.sbp.pl/event/planowanie-roku-2025-i-podsumowanie-roku-2024-w-ramach-kontroli-zarzadczej-cele-ryzyka-mierniki-samoocena/
LOCATION:Online
CATEGORIES:Szkolenia online
ATTACH;FMTTYPE=image/png:https://szkoleniadlabibliotekarzy.sbp.pl/wp-content/uploads/2024/09/kontrola-zarzadcza.png
END:VEVENT
BEGIN:VEVENT
DTSTART;TZID=Europe/Warsaw:20251105T130000
DTEND;TZID=Europe/Warsaw:20251105T150000
DTSTAMP:20260420T114515
CREATED:20250616T050804Z
LAST-MODIFIED:20251002T082530Z
UID:4801-1762347600-1762354800@szkoleniadlabibliotekarzy.sbp.pl
SUMMARY:AI w bibliotece? Tak\, i to za darmo! Szkolenie z bezpłatnych narzędzi sztucznej inteligencji do pracy w bibliotece
DESCRIPTION:Szkolenie prowadzi Rafał Hetman \nOpis szkolenia i zapisy
URL:https://szkoleniadlabibliotekarzy.sbp.pl/event/ai-w-bibliotece-tak-i-to-za-darmo-szkolenie-z-bezplatnych-narzedzi-sztucznej-inteligencji-do-pracy-w-bibliotece/
LOCATION:Online
CATEGORIES:Szkolenia online
ATTACH;FMTTYPE=image/png:https://szkoleniadlabibliotekarzy.sbp.pl/wp-content/uploads/2025/06/AI-w-bibliotece.png
END:VEVENT
BEGIN:VEVENT
DTSTART;TZID=Europe/Warsaw:20251103T100000
DTEND;TZID=Europe/Warsaw:20251103T120000
DTSTAMP:20260420T114515
CREATED:20250616T050800Z
LAST-MODIFIED:20250926T101455Z
UID:4807-1762164000-1762171200@szkoleniadlabibliotekarzy.sbp.pl
SUMMARY:Bliżej książek\, bliżej siebie. Literacka autoterapia
DESCRIPTION:Szkolenie prowadzi dr Wanda Matras-Mastalerz \nOpis szkolenia i zapisy
URL:https://szkoleniadlabibliotekarzy.sbp.pl/event/literacka-autoterapia/
LOCATION:Online
CATEGORIES:Szkolenia online
ATTACH;FMTTYPE=image/png:https://szkoleniadlabibliotekarzy.sbp.pl/wp-content/uploads/2025/06/literacka-autoterpia.png
END:VEVENT
BEGIN:VEVENT
DTSTART;TZID=Europe/Warsaw:20251103T000000
DTEND;TZID=Europe/Warsaw:20251208T235900
DTSTAMP:20260420T114515
CREATED:20250616T050842Z
LAST-MODIFIED:20251017T072341Z
UID:4789-1762128000-1765238340@szkoleniadlabibliotekarzy.sbp.pl
SUMMARY:Excel od podstaw dla każdego - kurs e-learningowy
DESCRIPTION:Kurs prowadzi Magdalena Rusnok \nOpis szkolenia i zapisy \n 
URL:https://szkoleniadlabibliotekarzy.sbp.pl/event/excel-od-podstaw-dla-kazdego-kurs/
LOCATION:Online
CATEGORIES:Kurs online,Szkolenia online
ATTACH;FMTTYPE=image/png:https://szkoleniadlabibliotekarzy.sbp.pl/wp-content/uploads/2025/03/excel_kurs1.png
END:VEVENT
BEGIN:VEVENT
DTSTART;TZID=Europe/Warsaw:20251022T100000
DTEND;TZID=Europe/Warsaw:20251022T123000
DTSTAMP:20260420T114515
CREATED:20250616T050847Z
LAST-MODIFIED:20250926T194725Z
UID:4780-1761127200-1761136200@szkoleniadlabibliotekarzy.sbp.pl
SUMMARY:Repozytoria cyfrowe w instytucjach nauki
DESCRIPTION:Szkolenie prowadzi dr Leszek Szafrański \nOpis szkolenia i zapisy
URL:https://szkoleniadlabibliotekarzy.sbp.pl/event/repozytoria-cyfrowe-w-instytucjach-nauki/
LOCATION:Online
CATEGORIES:Szkolenia online
ATTACH;FMTTYPE=image/png:https://szkoleniadlabibliotekarzy.sbp.pl/wp-content/uploads/2025/06/repozytoria-cyfrowe.png
END:VEVENT
BEGIN:VEVENT
DTSTART;TZID=Europe/Warsaw:20250807T100000
DTEND;TZID=Europe/Warsaw:20250807T120000
DTSTAMP:20260420T114515
CREATED:20250616T050844Z
LAST-MODIFIED:20250613T193154Z
UID:4759-1754560800-1754568000@szkoleniadlabibliotekarzy.sbp.pl
SUMMARY:Design Thinking – od potrzeby do realizacji
DESCRIPTION:Szkolenie prowadzi Beata Gamrowska \nOpis szkolenia i zapisy
URL:https://szkoleniadlabibliotekarzy.sbp.pl/event/design-thinking-od-potrzeby-do-realizacji-3/
LOCATION:Online
CATEGORIES:Szkolenia online
ATTACH;FMTTYPE=image/jpeg:https://szkoleniadlabibliotekarzy.sbp.pl/wp-content/uploads/2022/05/design_thinking.jpg
END:VEVENT
BEGIN:VEVENT
DTSTART;TZID=Europe/Warsaw:20250804T100000
DTEND;TZID=Europe/Warsaw:20250804T120000
DTSTAMP:20260420T114515
CREATED:20250616T050830Z
LAST-MODIFIED:20250613T192048Z
UID:4751-1754301600-1754308800@szkoleniadlabibliotekarzy.sbp.pl
SUMMARY:Pigułki wiedzy – inne podejście do oferty szkoleniowej
DESCRIPTION:Szkolenie prowadzi dr Aneta Januszko-Szakiel \nOpis szkolenia i zapisy
URL:https://szkoleniadlabibliotekarzy.sbp.pl/event/pigulki-wiedzy-inne-podejscie-do-oferty-szkoleniowej/
LOCATION:Online
CATEGORIES:Szkolenia online
ATTACH;FMTTYPE=image/jpeg:https://szkoleniadlabibliotekarzy.sbp.pl/wp-content/uploads/2022/01/bloger.jpg
END:VEVENT
BEGIN:VEVENT
DTSTART;TZID=Europe/Warsaw:20250731T100000
DTEND;TZID=Europe/Warsaw:20250731T120000
DTSTAMP:20260420T114515
CREATED:20250616T050805Z
LAST-MODIFIED:20250613T193524Z
UID:4761-1753956000-1753963200@szkoleniadlabibliotekarzy.sbp.pl
SUMMARY:Piszę\, a oni czytają – język korzyści w social media
DESCRIPTION:Szkolenie prowadzi Beata Gamrowska \nOpis szkolenia i zapisy
URL:https://szkoleniadlabibliotekarzy.sbp.pl/event/pisze-a-oni-czytaja-jezyk-korzysci-w-social-media-3/
LOCATION:Online
CATEGORIES:Szkolenia online
ATTACH;FMTTYPE=image/jpeg:https://szkoleniadlabibliotekarzy.sbp.pl/wp-content/uploads/2022/01/pisze.jpg
END:VEVENT
BEGIN:VEVENT
DTSTART;TZID=Europe/Warsaw:20250730T100000
DTEND;TZID=Europe/Warsaw:20250730T123000
DTSTAMP:20260420T114515
CREATED:20250616T050835Z
LAST-MODIFIED:20250613T195242Z
UID:4777-1753869600-1753878600@szkoleniadlabibliotekarzy.sbp.pl
SUMMARY:Plan Zarządzania Danymi (Data Management Plan – DMP) oraz zasady FAIR
DESCRIPTION:Szkolenie prowadzi dr Leszek Szafrański \nOpis szkolenia i zapisy
URL:https://szkoleniadlabibliotekarzy.sbp.pl/event/plan-zarzadzania-danymi-data-management-plan-dmp-oraz-zasady-fair/
LOCATION:Online
CATEGORIES:Szkolenia online
ATTACH;FMTTYPE=image/png:https://szkoleniadlabibliotekarzy.sbp.pl/wp-content/uploads/2025/06/plan-zarzadzania-danymi.png
END:VEVENT
BEGIN:VEVENT
DTSTART;TZID=Europe/Warsaw:20250728T100000
DTEND;TZID=Europe/Warsaw:20250728T120000
DTSTAMP:20260420T114515
CREATED:20250616T050842Z
LAST-MODIFIED:20250614T191847Z
UID:4819-1753696800-1753704000@szkoleniadlabibliotekarzy.sbp.pl
SUMMARY:Sztuka rozmowy o książkach\, autorach i zjawiskach literackich. Sprawdzone pomysły integrujące i angażujące czytelników
DESCRIPTION:Szkolenie prowadzi dr Wanda Matras-Mastalerz \nOpis szkolenia i zapisy
URL:https://szkoleniadlabibliotekarzy.sbp.pl/event/sztuka-rozmowy-o-ksiazkach-autorach-i-zjawiskach-literackich-sprawdzone-pomysly-integrujace-i-angazujace-czytelnikow-2/
LOCATION:Online
CATEGORIES:Szkolenia online
ATTACH;FMTTYPE=image/png:https://szkoleniadlabibliotekarzy.sbp.pl/wp-content/uploads/2023/07/sztuka-rozmowy.png
END:VEVENT
BEGIN:VEVENT
DTSTART;TZID=Europe/Warsaw:20250724T100000
DTEND;TZID=Europe/Warsaw:20250724T120000
DTSTAMP:20260420T114515
CREATED:20250616T050859Z
LAST-MODIFIED:20250728T090550Z
UID:4753-1753351200-1753358400@szkoleniadlabibliotekarzy.sbp.pl
SUMMARY:Zarządzanie ryzykiem w cyfrowych repozytoriach danych badawczych
DESCRIPTION:Szkolenie prowadzi dr Aneta Januszko-Szakiel \nOpis szkolenia i zapisy
URL:https://szkoleniadlabibliotekarzy.sbp.pl/event/zarzadzanie-ryzykiem-w-cyfrowych-repozytoriach-danych-badawczych/
LOCATION:Online
CATEGORIES:Szkolenia online
ATTACH;FMTTYPE=image/png:https://szkoleniadlabibliotekarzy.sbp.pl/wp-content/uploads/2025/06/Zarzadzanie-ryzykiem.png
END:VEVENT
BEGIN:VEVENT
DTSTART;TZID=Europe/Warsaw:20250721T150000
DTEND;TZID=Europe/Warsaw:20250721T180000
DTSTAMP:20260420T114515
CREATED:20250616T050837Z
LAST-MODIFIED:20250613T191630Z
UID:4749-1753110000-1753120800@szkoleniadlabibliotekarzy.sbp.pl
SUMMARY:Zdrowy stres\, czy to możliwe?
DESCRIPTION:Szkolenie prowadzi Agata Kyzioł-Cieślak \nOpis szkolenia i zapisy
URL:https://szkoleniadlabibliotekarzy.sbp.pl/event/zdrowy-stres-czy-to-mozliwe/
LOCATION:Online
CATEGORIES:Szkolenia online
END:VEVENT
BEGIN:VEVENT
DTSTART;TZID=Europe/Warsaw:20250718T130000
DTEND;TZID=Europe/Warsaw:20250718T150000
DTSTAMP:20260420T114515
CREATED:20250616T050816Z
LAST-MODIFIED:20250701T075014Z
UID:4802-1752843600-1752850800@szkoleniadlabibliotekarzy.sbp.pl
SUMMARY:Podpatrz\, przetestuj\, dostosuj. Jak inspirować się internetem i nie kopiować\, tylko działać po swojemu
DESCRIPTION:Szkolenie prowadzi Rafał Hetman \nOpis szkolenia i zapisy
URL:https://szkoleniadlabibliotekarzy.sbp.pl/event/podpatrz-przetestuj-dostosuj-jak-inspirowac-sie-internetem-i-nie-kopiowac-tylko-dzialac-po-swojemu/
LOCATION:Online
CATEGORIES:Szkolenia online
ATTACH;FMTTYPE=image/png:https://szkoleniadlabibliotekarzy.sbp.pl/wp-content/uploads/2025/06/podpatrz-przetestuj.png
END:VEVENT
BEGIN:VEVENT
DTSTART;TZID=Europe/Warsaw:20250717T100000
DTEND;TZID=Europe/Warsaw:20250717T120000
DTSTAMP:20260420T114515
CREATED:20250616T050829Z
LAST-MODIFIED:20250613T193722Z
UID:4764-1752746400-1752753600@szkoleniadlabibliotekarzy.sbp.pl
SUMMARY:Jak ugryźć promocję w bibliotece
DESCRIPTION:Szkolenie prowadzi Beata Gamrowska \nOpis szkolenia i zapisy
URL:https://szkoleniadlabibliotekarzy.sbp.pl/event/jak-ugryzc-promocje-w-bibliotece-2/
LOCATION:Online
CATEGORIES:Szkolenia online
ATTACH;FMTTYPE=image/png:https://szkoleniadlabibliotekarzy.sbp.pl/wp-content/uploads/2025/03/jak-ugryzc-promocje.png
END:VEVENT
BEGIN:VEVENT
DTSTART;TZID=Europe/Warsaw:20250715T100000
DTEND;TZID=Europe/Warsaw:20250715T120000
DTSTAMP:20260420T114515
CREATED:20250616T050856Z
LAST-MODIFIED:20250711T080332Z
UID:4818-1752573600-1752580800@szkoleniadlabibliotekarzy.sbp.pl
SUMMARY:Literatura w animacji kultury i czytelnictwa młodzieży
DESCRIPTION:Szkolenie prowadzi dr Wanda Matras-Mastalerz \nOpis szkolenia i zapisy
URL:https://szkoleniadlabibliotekarzy.sbp.pl/event/metody-i-formy-animacji-kultury-w-pracy-z-mlodzieza-3/
LOCATION:Online
CATEGORIES:Szkolenia online
ATTACH;FMTTYPE=image/png:https://szkoleniadlabibliotekarzy.sbp.pl/wp-content/uploads/2023/03/mlodziez.png
END:VEVENT
BEGIN:VEVENT
DTSTART;TZID=Europe/Warsaw:20250714T100000
DTEND;TZID=Europe/Warsaw:20250714T120000
DTSTAMP:20260420T114515
CREATED:20250616T050825Z
LAST-MODIFIED:20250613T203014Z
UID:4813-1752487200-1752494400@szkoleniadlabibliotekarzy.sbp.pl
SUMMARY:Książka łączy pokolenia
DESCRIPTION:Szkolenie prowadzi dr Wanda Matras-Mastalerz \nOpis szkolenia i zapisy
URL:https://szkoleniadlabibliotekarzy.sbp.pl/event/ksiazka-laczy-pokolenia-2/
LOCATION:Online
CATEGORIES:Szkolenia online
ATTACH;FMTTYPE=image/png:https://szkoleniadlabibliotekarzy.sbp.pl/wp-content/uploads/2025/06/ksiazka-laczy-pokolenia.png
END:VEVENT
BEGIN:VEVENT
DTSTART;TZID=Europe/Warsaw:20250710T100000
DTEND;TZID=Europe/Warsaw:20250710T120000
DTSTAMP:20260420T114515
CREATED:20250616T050847Z
LAST-MODIFIED:20250613T192938Z
UID:4757-1752141600-1752148800@szkoleniadlabibliotekarzy.sbp.pl
SUMMARY:Marka biblioteki – jak stać się niezapomnianym
DESCRIPTION:Szkolenie prowadzi Beata Gamrowska \nOpis szkolenia i zapisy
URL:https://szkoleniadlabibliotekarzy.sbp.pl/event/marka-biblioteki-jak-stac-sie-niezapomnianym-2/
LOCATION:Online
CATEGORIES:Szkolenia online
ATTACH;FMTTYPE=image/jpeg:https://szkoleniadlabibliotekarzy.sbp.pl/wp-content/uploads/2023/08/Depositphotos_36245167_XL-kopia.jpg
END:VEVENT
BEGIN:VEVENT
DTSTART;TZID=Europe/Warsaw:20250709T100000
DTEND;TZID=Europe/Warsaw:20250709T120000
DTSTAMP:20260420T114515
CREATED:20250616T050832Z
LAST-MODIFIED:20250613T200800Z
UID:4791-1752055200-1752062400@szkoleniadlabibliotekarzy.sbp.pl
SUMMARY:Excel dla każdego - operacje na tabelach
DESCRIPTION:Szkolenie prowadzi Magdalena Rusnok \nOpis szkolenia i zapisy
URL:https://szkoleniadlabibliotekarzy.sbp.pl/event/excel-dla-kazdego-operacje-na-tabelach-2/
LOCATION:Online
CATEGORIES:Szkolenia online
ATTACH;FMTTYPE=image/png:https://szkoleniadlabibliotekarzy.sbp.pl/wp-content/uploads/2025/01/excel_3.png
END:VEVENT
BEGIN:VEVENT
DTSTART;TZID=Europe/Warsaw:20250708T100000
DTEND;TZID=Europe/Warsaw:20250708T120000
DTSTAMP:20260420T114515
CREATED:20250616T050834Z
LAST-MODIFIED:20250613T202809Z
UID:4810-1751968800-1751976000@szkoleniadlabibliotekarzy.sbp.pl
SUMMARY:Kreatywne wakacje z książką
DESCRIPTION:Szkolenie prowadzi dr Wanda Matras-Mastalerz \nOpis szkolenia i zapisy
URL:https://szkoleniadlabibliotekarzy.sbp.pl/event/kreatywne-wakacje-z-ksiazka/
LOCATION:Online
CATEGORIES:Szkolenia online
ATTACH;FMTTYPE=image/png:https://szkoleniadlabibliotekarzy.sbp.pl/wp-content/uploads/2025/06/Kreatywne-wakacje-z-ksiazka.png
END:VEVENT
END:VCALENDAR