BEGIN:VCALENDAR
VERSION:2.0
PRODID:-//Szkolenia SBP dla Bibliotekarzy - ECPv5.16.1.1//NONSGML v1.0//EN
CALSCALE:GREGORIAN
METHOD:PUBLISH
X-WR-CALNAME:Szkolenia SBP dla Bibliotekarzy
X-ORIGINAL-URL:https://szkoleniadlabibliotekarzy.sbp.pl
X-WR-CALDESC:Events for Szkolenia SBP dla Bibliotekarzy
REFRESH-INTERVAL;VALUE=DURATION:PT1H
X-Robots-Tag:noindex
X-PUBLISHED-TTL:PT1H
BEGIN:VTIMEZONE
TZID:Europe/Warsaw
BEGIN:DAYLIGHT
TZOFFSETFROM:+0100
TZOFFSETTO:+0200
TZNAME:CEST
DTSTART:20250330T010000
END:DAYLIGHT
BEGIN:STANDARD
TZOFFSETFROM:+0200
TZOFFSETTO:+0100
TZNAME:CET
DTSTART:20251026T010000
END:STANDARD
END:VTIMEZONE
BEGIN:VEVENT
DTSTART;TZID=Europe/Warsaw:20250724T100000
DTEND;TZID=Europe/Warsaw:20250724T120000
DTSTAMP:20260420T130814
CREATED:20250616T050859Z
LAST-MODIFIED:20250728T090550Z
UID:4753-1753351200-1753358400@szkoleniadlabibliotekarzy.sbp.pl
SUMMARY:Zarządzanie ryzykiem w cyfrowych repozytoriach danych badawczych
DESCRIPTION:Szkolenie prowadzi dr Aneta Januszko-Szakiel \nOpis szkolenia i zapisy
URL:https://szkoleniadlabibliotekarzy.sbp.pl/event/zarzadzanie-ryzykiem-w-cyfrowych-repozytoriach-danych-badawczych/
LOCATION:Online
CATEGORIES:Szkolenia online
ATTACH;FMTTYPE=image/png:https://szkoleniadlabibliotekarzy.sbp.pl/wp-content/uploads/2025/06/Zarzadzanie-ryzykiem.png
END:VEVENT
BEGIN:VEVENT
DTSTART;TZID=Europe/Warsaw:20250721T150000
DTEND;TZID=Europe/Warsaw:20250721T180000
DTSTAMP:20260420T130814
CREATED:20250616T050837Z
LAST-MODIFIED:20250613T191630Z
UID:4749-1753110000-1753120800@szkoleniadlabibliotekarzy.sbp.pl
SUMMARY:Zdrowy stres\, czy to możliwe?
DESCRIPTION:Szkolenie prowadzi Agata Kyzioł-Cieślak \nOpis szkolenia i zapisy
URL:https://szkoleniadlabibliotekarzy.sbp.pl/event/zdrowy-stres-czy-to-mozliwe/
LOCATION:Online
CATEGORIES:Szkolenia online
END:VEVENT
BEGIN:VEVENT
DTSTART;TZID=Europe/Warsaw:20250718T130000
DTEND;TZID=Europe/Warsaw:20250718T150000
DTSTAMP:20260420T130814
CREATED:20250616T050816Z
LAST-MODIFIED:20250701T075014Z
UID:4802-1752843600-1752850800@szkoleniadlabibliotekarzy.sbp.pl
SUMMARY:Podpatrz\, przetestuj\, dostosuj. Jak inspirować się internetem i nie kopiować\, tylko działać po swojemu
DESCRIPTION:Szkolenie prowadzi Rafał Hetman \nOpis szkolenia i zapisy
URL:https://szkoleniadlabibliotekarzy.sbp.pl/event/podpatrz-przetestuj-dostosuj-jak-inspirowac-sie-internetem-i-nie-kopiowac-tylko-dzialac-po-swojemu/
LOCATION:Online
CATEGORIES:Szkolenia online
ATTACH;FMTTYPE=image/png:https://szkoleniadlabibliotekarzy.sbp.pl/wp-content/uploads/2025/06/podpatrz-przetestuj.png
END:VEVENT
BEGIN:VEVENT
DTSTART;TZID=Europe/Warsaw:20250717T100000
DTEND;TZID=Europe/Warsaw:20250717T120000
DTSTAMP:20260420T130814
CREATED:20250616T050829Z
LAST-MODIFIED:20250613T193722Z
UID:4764-1752746400-1752753600@szkoleniadlabibliotekarzy.sbp.pl
SUMMARY:Jak ugryźć promocję w bibliotece
DESCRIPTION:Szkolenie prowadzi Beata Gamrowska \nOpis szkolenia i zapisy
URL:https://szkoleniadlabibliotekarzy.sbp.pl/event/jak-ugryzc-promocje-w-bibliotece-2/
LOCATION:Online
CATEGORIES:Szkolenia online
ATTACH;FMTTYPE=image/png:https://szkoleniadlabibliotekarzy.sbp.pl/wp-content/uploads/2025/03/jak-ugryzc-promocje.png
END:VEVENT
BEGIN:VEVENT
DTSTART;TZID=Europe/Warsaw:20250715T100000
DTEND;TZID=Europe/Warsaw:20250715T120000
DTSTAMP:20260420T130814
CREATED:20250616T050856Z
LAST-MODIFIED:20250711T080332Z
UID:4818-1752573600-1752580800@szkoleniadlabibliotekarzy.sbp.pl
SUMMARY:Literatura w animacji kultury i czytelnictwa młodzieży
DESCRIPTION:Szkolenie prowadzi dr Wanda Matras-Mastalerz \nOpis szkolenia i zapisy
URL:https://szkoleniadlabibliotekarzy.sbp.pl/event/metody-i-formy-animacji-kultury-w-pracy-z-mlodzieza-3/
LOCATION:Online
CATEGORIES:Szkolenia online
ATTACH;FMTTYPE=image/png:https://szkoleniadlabibliotekarzy.sbp.pl/wp-content/uploads/2023/03/mlodziez.png
END:VEVENT
BEGIN:VEVENT
DTSTART;TZID=Europe/Warsaw:20250714T100000
DTEND;TZID=Europe/Warsaw:20250714T120000
DTSTAMP:20260420T130814
CREATED:20250616T050825Z
LAST-MODIFIED:20250613T203014Z
UID:4813-1752487200-1752494400@szkoleniadlabibliotekarzy.sbp.pl
SUMMARY:Książka łączy pokolenia
DESCRIPTION:Szkolenie prowadzi dr Wanda Matras-Mastalerz \nOpis szkolenia i zapisy
URL:https://szkoleniadlabibliotekarzy.sbp.pl/event/ksiazka-laczy-pokolenia-2/
LOCATION:Online
CATEGORIES:Szkolenia online
ATTACH;FMTTYPE=image/png:https://szkoleniadlabibliotekarzy.sbp.pl/wp-content/uploads/2025/06/ksiazka-laczy-pokolenia.png
END:VEVENT
BEGIN:VEVENT
DTSTART;TZID=Europe/Warsaw:20250710T100000
DTEND;TZID=Europe/Warsaw:20250710T120000
DTSTAMP:20260420T130814
CREATED:20250616T050847Z
LAST-MODIFIED:20250613T192938Z
UID:4757-1752141600-1752148800@szkoleniadlabibliotekarzy.sbp.pl
SUMMARY:Marka biblioteki – jak stać się niezapomnianym
DESCRIPTION:Szkolenie prowadzi Beata Gamrowska \nOpis szkolenia i zapisy
URL:https://szkoleniadlabibliotekarzy.sbp.pl/event/marka-biblioteki-jak-stac-sie-niezapomnianym-2/
LOCATION:Online
CATEGORIES:Szkolenia online
ATTACH;FMTTYPE=image/jpeg:https://szkoleniadlabibliotekarzy.sbp.pl/wp-content/uploads/2023/08/Depositphotos_36245167_XL-kopia.jpg
END:VEVENT
BEGIN:VEVENT
DTSTART;TZID=Europe/Warsaw:20250709T100000
DTEND;TZID=Europe/Warsaw:20250709T120000
DTSTAMP:20260420T130814
CREATED:20250616T050832Z
LAST-MODIFIED:20250613T200800Z
UID:4791-1752055200-1752062400@szkoleniadlabibliotekarzy.sbp.pl
SUMMARY:Excel dla każdego - operacje na tabelach
DESCRIPTION:Szkolenie prowadzi Magdalena Rusnok \nOpis szkolenia i zapisy
URL:https://szkoleniadlabibliotekarzy.sbp.pl/event/excel-dla-kazdego-operacje-na-tabelach-2/
LOCATION:Online
CATEGORIES:Szkolenia online
ATTACH;FMTTYPE=image/png:https://szkoleniadlabibliotekarzy.sbp.pl/wp-content/uploads/2025/01/excel_3.png
END:VEVENT
BEGIN:VEVENT
DTSTART;TZID=Europe/Warsaw:20250708T100000
DTEND;TZID=Europe/Warsaw:20250708T120000
DTSTAMP:20260420T130814
CREATED:20250616T050834Z
LAST-MODIFIED:20250613T202809Z
UID:4810-1751968800-1751976000@szkoleniadlabibliotekarzy.sbp.pl
SUMMARY:Kreatywne wakacje z książką
DESCRIPTION:Szkolenie prowadzi dr Wanda Matras-Mastalerz \nOpis szkolenia i zapisy
URL:https://szkoleniadlabibliotekarzy.sbp.pl/event/kreatywne-wakacje-z-ksiazka/
LOCATION:Online
CATEGORIES:Szkolenia online
ATTACH;FMTTYPE=image/png:https://szkoleniadlabibliotekarzy.sbp.pl/wp-content/uploads/2025/06/Kreatywne-wakacje-z-ksiazka.png
END:VEVENT
BEGIN:VEVENT
DTSTART;TZID=Europe/Warsaw:20250702T120000
DTEND;TZID=Europe/Warsaw:20250702T140000
DTSTAMP:20260420T130814
CREATED:20250616T050840Z
LAST-MODIFIED:20250701T070426Z
UID:4746-1751457600-1751464800@szkoleniadlabibliotekarzy.sbp.pl
SUMMARY:Opracowanie utworów literackich z użyciem DBN
DESCRIPTION:Szkolenie prowadzi Agata Kyzioł-Cieślak \nOpis szkolenia i zapisy
URL:https://szkoleniadlabibliotekarzy.sbp.pl/event/4746/
LOCATION:Online
CATEGORIES:Szkolenia online
ATTACH;FMTTYPE=image/png:https://szkoleniadlabibliotekarzy.sbp.pl/wp-content/uploads/2025/06/Opracowanie-literatury-pieknej1.png
END:VEVENT
BEGIN:VEVENT
DTSTART;TZID=Europe/Warsaw:20250702T100000
DTEND;TZID=Europe/Warsaw:20250702T120000
DTSTAMP:20260420T130814
CREATED:20250616T050814Z
LAST-MODIFIED:20250613T200321Z
UID:4787-1751450400-1751457600@szkoleniadlabibliotekarzy.sbp.pl
SUMMARY:Excel dla każdego – formuły i funkcje
DESCRIPTION:Szkolenie prowadzi Magdalena Rusnok \nOpis szkolenia i zapisy
URL:https://szkoleniadlabibliotekarzy.sbp.pl/event/excel-dla-kazdego-formuly-i-funkcje/
LOCATION:Online
CATEGORIES:Szkolenia online
ATTACH;FMTTYPE=image/png:https://szkoleniadlabibliotekarzy.sbp.pl/wp-content/uploads/2024/10/excel_2.png
END:VEVENT
BEGIN:VEVENT
DTSTART;TZID=Europe/Warsaw:20250627T100000
DTEND;TZID=Europe/Warsaw:20250627T120000
DTSTAMP:20260420T130814
CREATED:20241003T115145Z
LAST-MODIFIED:20250427T130633Z
UID:4062-1751018400-1751025600@szkoleniadlabibliotekarzy.sbp.pl
SUMMARY:Razem możemy więcej. Biblioteka inkluzywna\, dostępna i integrująca
DESCRIPTION:Szkolenie poprowadzi dr Wanda Matras-Mastalerz \nOpis szkolenia i zapisy \n 
URL:https://szkoleniadlabibliotekarzy.sbp.pl/event/razem-mozemy-wiecej-biblioteka-inkluzywna-dostepna-i-integrujaca/
LOCATION:Online
CATEGORIES:Szkolenia online
ATTACH;FMTTYPE=image/png:https://szkoleniadlabibliotekarzy.sbp.pl/wp-content/uploads/2024/10/biblioteka_inkluzywna.png
END:VEVENT
BEGIN:VEVENT
DTSTART;TZID=Europe/Warsaw:20250624T100000
DTEND;TZID=Europe/Warsaw:20250624T120000
DTSTAMP:20260420T130814
CREATED:20210427T084427Z
LAST-MODIFIED:20250427T125940Z
UID:1338-1750759200-1750766400@szkoleniadlabibliotekarzy.sbp.pl
SUMMARY:Metody wspierania dobrostanu i sprężystości psychicznej czytelników i pracowników bibliotek
DESCRIPTION:Szkolenie poprowadzi dr Wanda Matras-Mastalerz \nOpis szkolenia i zapisy
URL:https://szkoleniadlabibliotekarzy.sbp.pl/event/metody-wspierania-dobrostanu-i-sprezystosci-psychicznej-czytelnikow-i-pracownikow-bibliotek/
CATEGORIES:Szkolenia online
ATTACH;FMTTYPE=image/png:https://szkoleniadlabibliotekarzy.sbp.pl/wp-content/uploads/2024/08/dobrostan2.png
END:VEVENT
BEGIN:VEVENT
DTSTART;TZID=Europe/Warsaw:20250604T100000
DTEND;TZID=Europe/Warsaw:20250604T120000
DTSTAMP:20260420T130814
CREATED:20250107T095106Z
LAST-MODIFIED:20250417T171450Z
UID:4277-1749031200-1749038400@szkoleniadlabibliotekarzy.sbp.pl
SUMMARY:Excel dla bibliotekarzy cz.3: Operacje na tabelach i zakresach
DESCRIPTION:Szkolenie poprowadzi Magdalena Rusnok \nOpis szkolenia i zapisy
URL:https://szkoleniadlabibliotekarzy.sbp.pl/event/excel-dla-bibliotekarzy-cz-3-operacje-na-tabelach-i-zakresach/
LOCATION:Online
CATEGORIES:Szkolenia online
ATTACH;FMTTYPE=image/png:https://szkoleniadlabibliotekarzy.sbp.pl/wp-content/uploads/2025/01/excel_3.png
END:VEVENT
BEGIN:VEVENT
DTSTART;TZID=Europe/Warsaw:20250530T123000
DTEND;TZID=Europe/Warsaw:20250530T143000
DTSTAMP:20260420T130814
CREATED:20240601T073312Z
LAST-MODIFIED:20250416T052014Z
UID:3379-1748608200-1748615400@szkoleniadlabibliotekarzy.sbp.pl
SUMMARY:Marka biblioteki - jak stać się niezapomnianym
DESCRIPTION:Szkolenie poprowadzi Beata Gamrowska \nOpis szkolenia i zapisy
URL:https://szkoleniadlabibliotekarzy.sbp.pl/event/marka-biblioteki-jak-stac-sie-niezapomnianym/
CATEGORIES:Szkolenia online
ATTACH;FMTTYPE=image/jpeg:https://szkoleniadlabibliotekarzy.sbp.pl/wp-content/uploads/2023/08/Depositphotos_36245167_XL-kopia.jpg
END:VEVENT
BEGIN:VEVENT
DTSTART;TZID=Europe/Warsaw:20250528T110000
DTEND;TZID=Europe/Warsaw:20250528T133000
DTSTAMP:20260420T130814
CREATED:20250505T085147Z
LAST-MODIFIED:20250505T085205Z
UID:4608-1748430000-1748439000@szkoleniadlabibliotekarzy.sbp.pl
SUMMARY:Data Steward – sylwetka menadżera zasobów danych badawczych
DESCRIPTION:Szkolenie prowadzi dr Aneta Januszko-Szakiel \nOpis szkolenia i zapisy
URL:https://szkoleniadlabibliotekarzy.sbp.pl/event/data-steward-sylwetka-menadzera-zasobow-danych-badawczych/
LOCATION:Online
CATEGORIES:Szkolenia online
ATTACH;FMTTYPE=image/png:https://szkoleniadlabibliotekarzy.sbp.pl/wp-content/uploads/2025/05/Data-Steward1.png
END:VEVENT
BEGIN:VEVENT
DTSTART;TZID=Europe/Warsaw:20250528T100000
DTEND;TZID=Europe/Warsaw:20250528T120000
DTSTAMP:20260420T130814
CREATED:20241114T085311Z
LAST-MODIFIED:20250417T170914Z
UID:4163-1748426400-1748433600@szkoleniadlabibliotekarzy.sbp.pl
SUMMARY:Excel dla bibliotekarzy – część 2: Podstawowe formuły i funkcje
DESCRIPTION:Szkolenie prowadzi Magdalena Rusnok \nOpis szkolenia i zapisy
URL:https://szkoleniadlabibliotekarzy.sbp.pl/event/excel-dla-bibliotekarzy-czesc-2-podstawowe-formuly-i-funkcje/
LOCATION:Online
CATEGORIES:Szkolenia online
ATTACH;FMTTYPE=image/png:https://szkoleniadlabibliotekarzy.sbp.pl/wp-content/uploads/2024/10/excel_2.png
END:VEVENT
BEGIN:VEVENT
DTSTART;TZID=Europe/Warsaw:20250523T100000
DTEND;TZID=Europe/Warsaw:20250523T120000
DTSTAMP:20260420T130814
CREATED:20250416T051430Z
LAST-MODIFIED:20250416T051430Z
UID:4446-1747994400-1748001600@szkoleniadlabibliotekarzy.sbp.pl
SUMMARY:Jak ugryźć promocję w bibliotece
DESCRIPTION:Szkolenie poprowadzi Beata Gamrowska \nOpis szkolenia i zapisy
URL:https://szkoleniadlabibliotekarzy.sbp.pl/event/jak-ugryzc-promocje-w-bibliotece/
LOCATION:Online
CATEGORIES:Szkolenia online
ATTACH;FMTTYPE=image/png:https://szkoleniadlabibliotekarzy.sbp.pl/wp-content/uploads/2025/03/jak-ugryzc-promocje.png
END:VEVENT
BEGIN:VEVENT
DTSTART;TZID=Europe/Warsaw:20250523T100000
DTEND;TZID=Europe/Warsaw:20250523T120000
DTSTAMP:20260420T130814
CREATED:20230518T093600Z
LAST-MODIFIED:20250408T180025Z
UID:3261-1747994400-1748001600@szkoleniadlabibliotekarzy.sbp.pl
SUMMARY:Weryfikacja informacji w dobie sztucznej inteligencji: narzędzia i metody
DESCRIPTION:Szkolenie poprowadzi Gabriela Sieczkowska \nOpis szkolenia i zapisy
URL:https://szkoleniadlabibliotekarzy.sbp.pl/event/jak-weryfikowac-informacje-w-sieci-narzedzia-i-metody/
LOCATION:Online
CATEGORIES:Szkolenia online
ATTACH;FMTTYPE=image/png:https://szkoleniadlabibliotekarzy.sbp.pl/wp-content/uploads/2025/02/weryfikacja-informacji.png
END:VEVENT
BEGIN:VEVENT
DTSTART;TZID=Europe/Warsaw:20250516T100000
DTEND;TZID=Europe/Warsaw:20250516T120000
DTSTAMP:20260420T130814
CREATED:20230905T184627Z
LAST-MODIFIED:20250401T123354Z
UID:3401-1747389600-1747396800@szkoleniadlabibliotekarzy.sbp.pl
SUMMARY:Social media - wszystko co powinieneś wiedzieć
DESCRIPTION:Szkolenie poprowadzi Beata Gamrowska \nOpis szkolenia i zapisy
URL:https://szkoleniadlabibliotekarzy.sbp.pl/event/social-media-wszystko-co-powinienes-wiedziec/
LOCATION:Online
CATEGORIES:Szkolenia online
ATTACH;FMTTYPE=image/jpeg:https://szkoleniadlabibliotekarzy.sbp.pl/wp-content/uploads/2021/04/wellness.jpg
END:VEVENT
BEGIN:VEVENT
DTSTART;TZID=Europe/Warsaw:20250514T110000
DTEND;TZID=Europe/Warsaw:20250514T130000
DTSTAMP:20260420T130814
CREATED:20231115T185159Z
LAST-MODIFIED:20250423T110815Z
UID:3527-1747220400-1747227600@szkoleniadlabibliotekarzy.sbp.pl
SUMMARY:Bibliotekarz menadżerem projektu. Metoda „łańcucha krytycznego” w zarządzaniu projektami bibliotecznymi
DESCRIPTION:Szkolenie poprowadzi dr Aneta Januszko-Szakiel \nOpis szkolenia i zapisy
URL:https://szkoleniadlabibliotekarzy.sbp.pl/event/bibliotekarz-menadzerem-projektu-metoda-lancucha-krytycznego-w-zarzadzaniu-projektami-bibliotecznymi/
CATEGORIES:Szkolenia online
ATTACH;FMTTYPE=image/png:https://szkoleniadlabibliotekarzy.sbp.pl/wp-content/uploads/2024/09/metoda-lancucha-krtycznego.png
END:VEVENT
BEGIN:VEVENT
DTSTART;TZID=Europe/Warsaw:20250429T100000
DTEND;TZID=Europe/Warsaw:20250429T120000
DTSTAMP:20260420T130814
CREATED:20221019T111413Z
LAST-MODIFIED:20250310T092645Z
UID:2695-1745920800-1745928000@szkoleniadlabibliotekarzy.sbp.pl
SUMMARY:Prawo autorskie w bibliotece podczas działań stacjonarnych i w Internecie
DESCRIPTION:Szkolenie poprowadzi dr Łukasz Wojciechowski \nOpis szkolenia i zapisy
URL:https://szkoleniadlabibliotekarzy.sbp.pl/event/prawo-autorskie-w-bibliotece-podczas-dzialan-stacjonarnych-i-w-internecie/
CATEGORIES:Szkolenia online
ATTACH;FMTTYPE=image/jpeg:https://szkoleniadlabibliotekarzy.sbp.pl/wp-content/uploads/2022/10/prawo_autorskie.jpg
END:VEVENT
BEGIN:VEVENT
DTSTART;TZID=Europe/Warsaw:20250416T100000
DTEND;TZID=Europe/Warsaw:20250416T123000
DTSTAMP:20260420T130814
CREATED:20250319T220116Z
LAST-MODIFIED:20250319T220116Z
UID:4523-1744797600-1744806600@szkoleniadlabibliotekarzy.sbp.pl
SUMMARY:Wirtualne przestrzenie kultury: tworzenie wystaw online z Artsteps
DESCRIPTION:Szkolenie poprowadzi dr Dominik Mirosław Piotrowski \nOpis szkolenia i zapisy
URL:https://szkoleniadlabibliotekarzy.sbp.pl/event/wirtualne-przestrzenie-kultury-tworzenie-wystaw-online-z-artsteps/
LOCATION:Online
CATEGORIES:Szkolenia online
ATTACH;FMTTYPE=image/png:https://szkoleniadlabibliotekarzy.sbp.pl/wp-content/uploads/2025/03/wirtualne-przestrzenie.png
END:VEVENT
BEGIN:VEVENT
DTSTART;TZID=Europe/Warsaw:20250411T100000
DTEND;TZID=Europe/Warsaw:20250411T120000
DTSTAMP:20260420T130814
CREATED:20240220T000939Z
LAST-MODIFIED:20250313T130047Z
UID:3483-1744365600-1744372800@szkoleniadlabibliotekarzy.sbp.pl
SUMMARY:Doręczenia elektroniczne w bibliotece
DESCRIPTION:Opis szkolenia i zapisy
URL:https://szkoleniadlabibliotekarzy.sbp.pl/event/doreczenia-elektroniczne-w-bibliotece/
CATEGORIES:Szkolenia online
ATTACH;FMTTYPE=image/png:https://szkoleniadlabibliotekarzy.sbp.pl/wp-content/uploads/2024/02/e-doreczenia.png
END:VEVENT
BEGIN:VEVENT
DTSTART;TZID=Europe/Warsaw:20250409T110000
DTEND;TZID=Europe/Warsaw:20250409T130000
DTSTAMP:20260420T130814
CREATED:20220203T124028Z
LAST-MODIFIED:20250204T163517Z
UID:2111-1744196400-1744203600@szkoleniadlabibliotekarzy.sbp.pl
SUMMARY:Bibliotekarz infobrokerem
DESCRIPTION:Szkolenie poprowadzi dr Aneta Januszko-Szakiel \nOpis szkolenia i zapisy
URL:https://szkoleniadlabibliotekarzy.sbp.pl/event/bibliotekarz-infobrokerem/
CATEGORIES:Szkolenia online
ATTACH;FMTTYPE=image/jpeg:https://szkoleniadlabibliotekarzy.sbp.pl/wp-content/uploads/2022/01/broker.jpg
END:VEVENT
BEGIN:VEVENT
DTSTART;TZID=Europe/Warsaw:20250402T100000
DTEND;TZID=Europe/Warsaw:20250402T120000
DTSTAMP:20260420T130814
CREATED:20250225T090002Z
LAST-MODIFIED:20250319T090430Z
UID:4405-1743588000-1743595200@szkoleniadlabibliotekarzy.sbp.pl
SUMMARY:Excel dla bibliotekarzy – część 1: Podstawy
DESCRIPTION:Szkolenie prowadzi Magdalena Rusnok \nOpis szkolenia i zapisy
URL:https://szkoleniadlabibliotekarzy.sbp.pl/event/excel-dla-bibliotekarzy-czesc-1-podstawy/
LOCATION:Online
CATEGORIES:Szkolenia online
ATTACH;FMTTYPE=image/png:https://szkoleniadlabibliotekarzy.sbp.pl/wp-content/uploads/2024/10/excel_1.png
END:VEVENT
BEGIN:VEVENT
DTSTART;TZID=Europe/Warsaw:20250312T110000
DTEND;TZID=Europe/Warsaw:20250312T130000
DTSTAMP:20260420T130814
CREATED:20240115T183051Z
LAST-MODIFIED:20250403T090838Z
UID:3515-1741777200-1741784400@szkoleniadlabibliotekarzy.sbp.pl
SUMMARY:Bibliotekarz edukatorem. „Kapsułki/pigułki wiedzy” – inne podejście do tworzenia bibliotecznej oferty szkoleniowej
DESCRIPTION:Szkolenie poprowadzi dr Aneta Januszko-Szakiel \nOpis szkolenia i zapisy
URL:https://szkoleniadlabibliotekarzy.sbp.pl/event/123/
CATEGORIES:Szkolenia online
ATTACH;FMTTYPE=image/jpeg:https://szkoleniadlabibliotekarzy.sbp.pl/wp-content/uploads/2022/01/bloger.jpg
END:VEVENT
BEGIN:VEVENT
DTSTART;TZID=Europe/Warsaw:20250123T100000
DTEND;TZID=Europe/Warsaw:20250123T120000
DTSTAMP:20260420T130814
CREATED:20220524T115831Z
LAST-MODIFIED:20250106T162443Z
UID:2450-1737626400-1737633600@szkoleniadlabibliotekarzy.sbp.pl
SUMMARY:Design Thinking – od potrzeby do realizacji
DESCRIPTION:Szkolenie poprowadzi Beata Gamrowska \nOpis szkolenia i zapisy
URL:https://szkoleniadlabibliotekarzy.sbp.pl/event/design-thinking-od-potrzeby-do-realizacji/
CATEGORIES:Szkolenia online
ATTACH;FMTTYPE=image/jpeg:https://szkoleniadlabibliotekarzy.sbp.pl/wp-content/uploads/2022/05/design_thinking.jpg
END:VEVENT
BEGIN:VEVENT
DTSTART;TZID=Europe/Warsaw:20250122T100000
DTEND;TZID=Europe/Warsaw:20250122T120000
DTSTAMP:20260420T130814
CREATED:20241007T094821Z
LAST-MODIFIED:20250317T113346Z
UID:4082-1737540000-1737547200@szkoleniadlabibliotekarzy.sbp.pl
SUMMARY:Excel dla bibliotekarzy - część 1: Podstawy
DESCRIPTION:Szkolenie poprowadzi Magdalena Rusnok \nOpis szkolenia i zapisy
URL:https://szkoleniadlabibliotekarzy.sbp.pl/event/excel-dla-poczatkujacych-czesc-1/
LOCATION:Online
CATEGORIES:Szkolenia online
ATTACH;FMTTYPE=image/png:https://szkoleniadlabibliotekarzy.sbp.pl/wp-content/uploads/2024/10/excel_1.png
END:VEVENT
BEGIN:VEVENT
DTSTART;TZID=Europe/Warsaw:20250114T180000
DTEND;TZID=Europe/Warsaw:20250114T190000
DTSTAMP:20260420T130814
CREATED:20250109T115038Z
LAST-MODIFIED:20250109T115126Z
UID:4303-1736877600-1736881200@szkoleniadlabibliotekarzy.sbp.pl
SUMMARY:(Nie)jasne sygnały - webinarium na temat mobbingu
DESCRIPTION:Szkolenie jest bezpłatne dla każdego \nOpis szkolenia i zapisy
URL:https://szkoleniadlabibliotekarzy.sbp.pl/event/niejasne-sygnaly-webinarium-na-temat-mobbingu/
LOCATION:Online
CATEGORIES:Szkolenia online
ATTACH;FMTTYPE=image/png:https://szkoleniadlabibliotekarzy.sbp.pl/wp-content/uploads/2025/01/niejasne_sygnaly_mobbing.png
END:VEVENT
END:VCALENDAR