BEGIN:VCALENDAR
VERSION:2.0
PRODID:-//Szkolenia SBP dla Bibliotekarzy - ECPv5.16.1.1//NONSGML v1.0//EN
CALSCALE:GREGORIAN
METHOD:PUBLISH
X-ORIGINAL-URL:https://szkoleniadlabibliotekarzy.sbp.pl
X-WR-CALDESC:Events for Szkolenia SBP dla Bibliotekarzy
REFRESH-INTERVAL;VALUE=DURATION:PT1H
X-Robots-Tag:noindex
X-PUBLISHED-TTL:PT1H
BEGIN:VTIMEZONE
TZID:Europe/Warsaw
BEGIN:DAYLIGHT
TZOFFSETFROM:+0100
TZOFFSETTO:+0200
TZNAME:CEST
DTSTART:20230326T010000
END:DAYLIGHT
BEGIN:STANDARD
TZOFFSETFROM:+0200
TZOFFSETTO:+0100
TZNAME:CET
DTSTART:20231029T010000
END:STANDARD
BEGIN:DAYLIGHT
TZOFFSETFROM:+0100
TZOFFSETTO:+0200
TZNAME:CEST
DTSTART:20240331T010000
END:DAYLIGHT
BEGIN:STANDARD
TZOFFSETFROM:+0200
TZOFFSETTO:+0100
TZNAME:CET
DTSTART:20241027T010000
END:STANDARD
BEGIN:DAYLIGHT
TZOFFSETFROM:+0100
TZOFFSETTO:+0200
TZNAME:CEST
DTSTART:20250330T010000
END:DAYLIGHT
BEGIN:STANDARD
TZOFFSETFROM:+0200
TZOFFSETTO:+0100
TZNAME:CET
DTSTART:20251026T010000
END:STANDARD
END:VTIMEZONE
BEGIN:VEVENT
DTSTART;TZID=Europe/Warsaw:20250416T100000
DTEND;TZID=Europe/Warsaw:20250416T123000
DTSTAMP:20260420T144713
CREATED:20250319T220116Z
LAST-MODIFIED:20250319T220116Z
UID:4523-1744797600-1744806600@szkoleniadlabibliotekarzy.sbp.pl
SUMMARY:Wirtualne przestrzenie kultury: tworzenie wystaw online z Artsteps
DESCRIPTION:Szkolenie poprowadzi dr Dominik Mirosław Piotrowski \nOpis szkolenia i zapisy
URL:https://szkoleniadlabibliotekarzy.sbp.pl/event/wirtualne-przestrzenie-kultury-tworzenie-wystaw-online-z-artsteps/
LOCATION:Online
CATEGORIES:Szkolenia online
ATTACH;FMTTYPE=image/png:https://szkoleniadlabibliotekarzy.sbp.pl/wp-content/uploads/2025/03/wirtualne-przestrzenie.png
END:VEVENT
BEGIN:VEVENT
DTSTART;TZID=Europe/Warsaw:20250411T100000
DTEND;TZID=Europe/Warsaw:20250411T120000
DTSTAMP:20260420T144713
CREATED:20240220T000939Z
LAST-MODIFIED:20250313T130047Z
UID:3483-1744365600-1744372800@szkoleniadlabibliotekarzy.sbp.pl
SUMMARY:Doręczenia elektroniczne w bibliotece
DESCRIPTION:Opis szkolenia i zapisy
URL:https://szkoleniadlabibliotekarzy.sbp.pl/event/doreczenia-elektroniczne-w-bibliotece/
CATEGORIES:Szkolenia online
ATTACH;FMTTYPE=image/png:https://szkoleniadlabibliotekarzy.sbp.pl/wp-content/uploads/2024/02/e-doreczenia.png
END:VEVENT
BEGIN:VEVENT
DTSTART;TZID=Europe/Warsaw:20250409T110000
DTEND;TZID=Europe/Warsaw:20250409T130000
DTSTAMP:20260420T144713
CREATED:20220203T124028Z
LAST-MODIFIED:20250204T163517Z
UID:2111-1744196400-1744203600@szkoleniadlabibliotekarzy.sbp.pl
SUMMARY:Bibliotekarz infobrokerem
DESCRIPTION:Szkolenie poprowadzi dr Aneta Januszko-Szakiel \nOpis szkolenia i zapisy
URL:https://szkoleniadlabibliotekarzy.sbp.pl/event/bibliotekarz-infobrokerem/
CATEGORIES:Szkolenia online
ATTACH;FMTTYPE=image/jpeg:https://szkoleniadlabibliotekarzy.sbp.pl/wp-content/uploads/2022/01/broker.jpg
END:VEVENT
BEGIN:VEVENT
DTSTART;TZID=Europe/Warsaw:20250402T100000
DTEND;TZID=Europe/Warsaw:20250402T120000
DTSTAMP:20260420T144713
CREATED:20250225T090002Z
LAST-MODIFIED:20250319T090430Z
UID:4405-1743588000-1743595200@szkoleniadlabibliotekarzy.sbp.pl
SUMMARY:Excel dla bibliotekarzy – część 1: Podstawy
DESCRIPTION:Szkolenie prowadzi Magdalena Rusnok \nOpis szkolenia i zapisy
URL:https://szkoleniadlabibliotekarzy.sbp.pl/event/excel-dla-bibliotekarzy-czesc-1-podstawy/
LOCATION:Online
CATEGORIES:Szkolenia online
ATTACH;FMTTYPE=image/png:https://szkoleniadlabibliotekarzy.sbp.pl/wp-content/uploads/2024/10/excel_1.png
END:VEVENT
BEGIN:VEVENT
DTSTART;TZID=Europe/Warsaw:20250312T110000
DTEND;TZID=Europe/Warsaw:20250312T130000
DTSTAMP:20260420T144713
CREATED:20240115T183051Z
LAST-MODIFIED:20250403T090838Z
UID:3515-1741777200-1741784400@szkoleniadlabibliotekarzy.sbp.pl
SUMMARY:Bibliotekarz edukatorem. „Kapsułki/pigułki wiedzy” – inne podejście do tworzenia bibliotecznej oferty szkoleniowej
DESCRIPTION:Szkolenie poprowadzi dr Aneta Januszko-Szakiel \nOpis szkolenia i zapisy
URL:https://szkoleniadlabibliotekarzy.sbp.pl/event/123/
CATEGORIES:Szkolenia online
ATTACH;FMTTYPE=image/jpeg:https://szkoleniadlabibliotekarzy.sbp.pl/wp-content/uploads/2022/01/bloger.jpg
END:VEVENT
BEGIN:VEVENT
DTSTART;TZID=Europe/Warsaw:20250123T100000
DTEND;TZID=Europe/Warsaw:20250123T120000
DTSTAMP:20260420T144713
CREATED:20220524T115831Z
LAST-MODIFIED:20250106T162443Z
UID:2450-1737626400-1737633600@szkoleniadlabibliotekarzy.sbp.pl
SUMMARY:Design Thinking – od potrzeby do realizacji
DESCRIPTION:Szkolenie poprowadzi Beata Gamrowska \nOpis szkolenia i zapisy
URL:https://szkoleniadlabibliotekarzy.sbp.pl/event/design-thinking-od-potrzeby-do-realizacji/
CATEGORIES:Szkolenia online
ATTACH;FMTTYPE=image/jpeg:https://szkoleniadlabibliotekarzy.sbp.pl/wp-content/uploads/2022/05/design_thinking.jpg
END:VEVENT
BEGIN:VEVENT
DTSTART;TZID=Europe/Warsaw:20250122T100000
DTEND;TZID=Europe/Warsaw:20250122T120000
DTSTAMP:20260420T144713
CREATED:20241007T094821Z
LAST-MODIFIED:20250317T113346Z
UID:4082-1737540000-1737547200@szkoleniadlabibliotekarzy.sbp.pl
SUMMARY:Excel dla bibliotekarzy - część 1: Podstawy
DESCRIPTION:Szkolenie poprowadzi Magdalena Rusnok \nOpis szkolenia i zapisy
URL:https://szkoleniadlabibliotekarzy.sbp.pl/event/excel-dla-poczatkujacych-czesc-1/
LOCATION:Online
CATEGORIES:Szkolenia online
ATTACH;FMTTYPE=image/png:https://szkoleniadlabibliotekarzy.sbp.pl/wp-content/uploads/2024/10/excel_1.png
END:VEVENT
BEGIN:VEVENT
DTSTART;TZID=Europe/Warsaw:20250114T180000
DTEND;TZID=Europe/Warsaw:20250114T190000
DTSTAMP:20260420T144713
CREATED:20250109T115038Z
LAST-MODIFIED:20250109T115126Z
UID:4303-1736877600-1736881200@szkoleniadlabibliotekarzy.sbp.pl
SUMMARY:(Nie)jasne sygnały - webinarium na temat mobbingu
DESCRIPTION:Szkolenie jest bezpłatne dla każdego \nOpis szkolenia i zapisy
URL:https://szkoleniadlabibliotekarzy.sbp.pl/event/niejasne-sygnaly-webinarium-na-temat-mobbingu/
LOCATION:Online
CATEGORIES:Szkolenia online
ATTACH;FMTTYPE=image/png:https://szkoleniadlabibliotekarzy.sbp.pl/wp-content/uploads/2025/01/niejasne_sygnaly_mobbing.png
END:VEVENT
BEGIN:VEVENT
DTSTART;TZID=Europe/Warsaw:20241119T100000
DTEND;TZID=Europe/Warsaw:20241119T120000
DTSTAMP:20260420T144713
CREATED:20220125T084219Z
LAST-MODIFIED:20240920T202121Z
UID:1974-1732010400-1732017600@szkoleniadlabibliotekarzy.sbp.pl
SUMMARY:Zarządzanie zespołem - klucz do sukcesu
DESCRIPTION:Szkolenie poprowadzi Beata Gamrowska \nOpis szkolenia i zapisy
URL:https://szkoleniadlabibliotekarzy.sbp.pl/event/mam-swoj-zespol-2/
LOCATION:Online
CATEGORIES:Szkolenia online
ATTACH;FMTTYPE=image/png:https://szkoleniadlabibliotekarzy.sbp.pl/wp-content/uploads/2021/03/team.png
END:VEVENT
BEGIN:VEVENT
DTSTART;TZID=Europe/Warsaw:20241113T100000
DTEND;TZID=Europe/Warsaw:20241113T120000
DTSTAMP:20260420T144713
CREATED:20240410T201722Z
LAST-MODIFIED:20240920T200616Z
UID:3773-1731492000-1731499200@szkoleniadlabibliotekarzy.sbp.pl
SUMMARY:Kierunek - persona. Jak tworzyć z myślą o konkretnym odbiorcy
DESCRIPTION:Szkolenie poprowadzi Beata Gamrowska \nOpis szkolenia i zapisy
URL:https://szkoleniadlabibliotekarzy.sbp.pl/event/kierunek-persona-jak-tworzyc-z-mysla-o-konkretnym-odbiorcy/
CATEGORIES:Szkolenia online
ATTACH;FMTTYPE=image/png:https://szkoleniadlabibliotekarzy.sbp.pl/wp-content/uploads/2024/04/persona1.png
END:VEVENT
BEGIN:VEVENT
DTSTART;TZID=Europe/Warsaw:20241028T100000
DTEND;TZID=Europe/Warsaw:20241028T120000
DTSTAMP:20260420T144713
CREATED:20230822T073746Z
LAST-MODIFIED:20240930T083323Z
UID:3366-1730109600-1730116800@szkoleniadlabibliotekarzy.sbp.pl
SUMMARY:Biblioteka wspierająca. Metody budowania efektywnej motywacji i zaangażowania zespołu w bibliotekach
DESCRIPTION:Szkolenie poprowadzi dr Wanda Matras-Mastalerz \nOpis szkolenia i zapisy
URL:https://szkoleniadlabibliotekarzy.sbp.pl/event/biblioteka-wspierajaca-metody-budowania-efektywnej-motywacji-i-zaangazowania-zespolu-w-bibliotekach/
CATEGORIES:Szkolenia online
ATTACH;FMTTYPE=image/jpeg:https://szkoleniadlabibliotekarzy.sbp.pl/wp-content/uploads/2023/08/Depositphotos_4586162_XL-kopia.jpg
END:VEVENT
BEGIN:VEVENT
DTSTART;TZID=Europe/Warsaw:20241025T130000
DTEND;TZID=Europe/Warsaw:20241025T150000
DTSTAMP:20260420T144713
CREATED:20240414T170623Z
LAST-MODIFIED:20250403T090848Z
UID:3792-1729861200-1729868400@szkoleniadlabibliotekarzy.sbp.pl
SUMMARY:Zostań Panią/Panem swojego czasu
DESCRIPTION:Szkolenie poprowadzi Paweł Marchel \nOpis szkolenia i zapisy
URL:https://szkoleniadlabibliotekarzy.sbp.pl/event/zostan-pania-panem-swojego-czasu/
CATEGORIES:Szkolenia online
ATTACH;FMTTYPE=image/jpeg:https://szkoleniadlabibliotekarzy.sbp.pl/wp-content/uploads/2024/04/depositphotos_155543996-stock-photo-crossed-arms-woman-and-time.jpg
END:VEVENT
BEGIN:VEVENT
DTSTART;TZID=Europe/Warsaw:20241014T130000
DTEND;TZID=Europe/Warsaw:20241014T150000
DTSTAMP:20260420T144713
CREATED:20231221T085230Z
LAST-MODIFIED:20240929T084906Z
UID:3604-1728910800-1728918000@szkoleniadlabibliotekarzy.sbp.pl
SUMMARY:Silna marka osobista bibliotekarza
DESCRIPTION:Szkolenie prowadzi Paweł Marchel \nOpis szkolenia i zapisy
URL:https://szkoleniadlabibliotekarzy.sbp.pl/event/silna-marka-osobista-bibliotekarza/
CATEGORIES:Szkolenia online
ATTACH;FMTTYPE=image/jpeg:https://szkoleniadlabibliotekarzy.sbp.pl/wp-content/uploads/2020/03/filmy_internet.jpg
END:VEVENT
BEGIN:VEVENT
DTSTART;TZID=Europe/Warsaw:20240911T100000
DTEND;TZID=Europe/Warsaw:20240911T120000
DTSTAMP:20260420T144713
CREATED:20240905T073424Z
LAST-MODIFIED:20240905T073657Z
UID:3915-1726048800-1726056000@szkoleniadlabibliotekarzy.sbp.pl
SUMMARY:Ochrona sygnalistów w bibliotekach – kluczowe zagadnienia ustawy o ochronie sygnalistów
DESCRIPTION:Szkolenie poprowadzi Maciej Celiński \nOpis szkolenia i zapisy
URL:https://szkoleniadlabibliotekarzy.sbp.pl/event/ochrona-sygnalistow-w-bibliotekach-kluczowe-zagadnienia-ustawy-o-ochronie-sygnalistow/
LOCATION:Online
CATEGORIES:Szkolenia online
ATTACH;FMTTYPE=image/jpeg:https://szkoleniadlabibliotekarzy.sbp.pl/wp-content/uploads/2023/10/M.jpg
END:VEVENT
BEGIN:VEVENT
DTSTART;TZID=Europe/Warsaw:20240529T100000
DTEND;TZID=Europe/Warsaw:20240529T120000
DTSTAMP:20260420T144713
CREATED:20240223T115716Z
LAST-MODIFIED:20250403T090901Z
UID:3711-1716976800-1716984000@szkoleniadlabibliotekarzy.sbp.pl
SUMMARY:Podpis elektroniczny w bibliotece - jak prawidłowo podpisywać i weryfikować podpisy elektroniczne na dokumentach - szkolenie praktyczne
DESCRIPTION:Szkolenie poprowadzi Karol Ciechoński \nOpis szkolenia i zapisy
URL:https://szkoleniadlabibliotekarzy.sbp.pl/event/podpis-elektroniczny-w-bibliotece-jak-prawidlowo-podpisywac-i-weryfikowac-podpisy-elektroniczne-na-dokumentach-szkolenie-praktyczne/
CATEGORIES:Szkolenia online
ATTACH;FMTTYPE=image/jpeg:https://szkoleniadlabibliotekarzy.sbp.pl/wp-content/uploads/2024/02/podpis-elektr-1.jpg
END:VEVENT
BEGIN:VEVENT
DTSTART;TZID=Europe/Warsaw:20240529T100000
DTEND;TZID=Europe/Warsaw:20240529T120000
DTSTAMP:20260420T144713
CREATED:20231011T120718Z
LAST-MODIFIED:20250403T090904Z
UID:3467-1716976800-1716984000@szkoleniadlabibliotekarzy.sbp.pl
SUMMARY:Ustawa o Ochronie Osób Zgłaszających Naruszenia (Sygnalistów)
DESCRIPTION:Szkolenie poprowadzi Maciej Celiński \nOpis szkolenia i zapisy
URL:https://szkoleniadlabibliotekarzy.sbp.pl/event/ustawa-o-ochronie-sygnalistow-wprowadzenie-dla-bibliotekarzy/
CATEGORIES:Szkolenia online
ATTACH;FMTTYPE=image/jpeg:https://szkoleniadlabibliotekarzy.sbp.pl/wp-content/uploads/2023/10/M.jpg
END:VEVENT
BEGIN:VEVENT
DTSTART;TZID=Europe/Warsaw:20240425T100000
DTEND;TZID=Europe/Warsaw:20240425T123000
DTSTAMP:20260420T144713
CREATED:20231113T150417Z
LAST-MODIFIED:20250326T102246Z
UID:3147-1714039200-1714048200@szkoleniadlabibliotekarzy.sbp.pl
SUMMARY:Zarządzanie informacją bibliograficzną
DESCRIPTION:Obraz Kerttu z Pixabay\nSzkolenie poprowadzi dr Bartłomiej Włodarczyk \nOpis szkolenia i zapisy
URL:https://szkoleniadlabibliotekarzy.sbp.pl/event/zarzadzanie-osobista-informacja-bibliograficzna/
LOCATION:Online
CATEGORIES:Szkolenia online
ATTACH;FMTTYPE=image/png:https://szkoleniadlabibliotekarzy.sbp.pl/wp-content/uploads/2023/04/zarzadzanie-informacja.png
END:VEVENT
BEGIN:VEVENT
DTSTART;TZID=Europe/Warsaw:20240422T120000
DTEND;TZID=Europe/Warsaw:20240422T140000
DTSTAMP:20260420T144713
CREATED:20240320T140857Z
LAST-MODIFIED:20250403T090910Z
UID:3597-1713787200-1713794400@szkoleniadlabibliotekarzy.sbp.pl
SUMMARY:Osobiste archiwa cyfrowe. Jak zarządzać i trwale chronić indywidualne zasoby dokumentów.
DESCRIPTION:Szkolenie poprowadzi dr Aneta Januszko-Szakiel \n  \nOpis szkolenia i zapisy
URL:https://szkoleniadlabibliotekarzy.sbp.pl/event/osobiste-archiwa-cyfrowe-jak-zarzadzac-i-trwale-chronic-indywidualne-zasoby-dokumentow/
CATEGORIES:Szkolenia online
ATTACH;FMTTYPE=image/jpeg:https://szkoleniadlabibliotekarzy.sbp.pl/wp-content/uploads/2022/03/pda.jpg
END:VEVENT
BEGIN:VEVENT
DTSTART;TZID=Europe/Warsaw:20240410T150000
DTEND;TZID=Europe/Warsaw:20240605T170000
DTSTAMP:20260420T144713
CREATED:20220805T112406Z
LAST-MODIFIED:20240321T134051Z
UID:877-1712761200-1717606800@szkoleniadlabibliotekarzy.sbp.pl
SUMMARY:Opracowanie formalne zbiorów bibliotecznych według aktualnych wskazań Biblioteki Narodowej
DESCRIPTION:Kurs poprowadzi Agata Kyzioł-Cieślak \nOpis szkolenia i zapisy \n 
URL:https://szkoleniadlabibliotekarzy.sbp.pl/event/opracowanie-formalne-zbiorow-bibliotecznych-wedlug-aktualnych-wskazan-biblioteki-narodowej/
CATEGORIES:Kurs online,Szkolenia online
ATTACH;FMTTYPE=image/png:https://szkoleniadlabibliotekarzy.sbp.pl/wp-content/uploads/2023/03/opracowanie.png
END:VEVENT
BEGIN:VEVENT
DTSTART;TZID=Europe/Warsaw:20240402T100000
DTEND;TZID=Europe/Warsaw:20240402T120000
DTSTAMP:20260420T144713
CREATED:20240213T183251Z
LAST-MODIFIED:20250403T090916Z
UID:3686-1712052000-1712059200@szkoleniadlabibliotekarzy.sbp.pl
SUMMARY:Rejestr Czynności Przetwarzania Danych\, Analiza Ryzyka i DPIA
DESCRIPTION:Szkolenie poprowadzi dr Maciej Celiński \nOpis szkolenia i zapisy
URL:https://szkoleniadlabibliotekarzy.sbp.pl/event/rejestr-czynnosci-przetwarzania-danych-analiza-ryzyka-i-dpia/
CATEGORIES:Szkolenia online
ATTACH;FMTTYPE=image/jpeg:https://szkoleniadlabibliotekarzy.sbp.pl/wp-content/uploads/2020/08/cybersecurity.jpg
END:VEVENT
BEGIN:VEVENT
DTSTART;TZID=Europe/Warsaw:20240215T100000
DTEND;TZID=Europe/Warsaw:20240215T120000
DTSTAMP:20260420T144713
CREATED:20220524T111309Z
LAST-MODIFIED:20231219T095603Z
UID:2442-1707991200-1707998400@szkoleniadlabibliotekarzy.sbp.pl
SUMMARY:Piszę\, a oni czytają – język korzyści w social media
DESCRIPTION:Szkolenie poprowadzi Beata Gamrowska \nOpis szkolenia i zapisy
URL:https://szkoleniadlabibliotekarzy.sbp.pl/event/pisze-a-oni-czytaja-jezyk-korzysci-w-social-media/
CATEGORIES:Szkolenia online
ATTACH;FMTTYPE=image/jpeg:https://szkoleniadlabibliotekarzy.sbp.pl/wp-content/uploads/2022/01/pisze.jpg
END:VEVENT
BEGIN:VEVENT
DTSTART;TZID=Europe/Warsaw:20240131T100000
DTEND;TZID=Europe/Warsaw:20240131T120000
DTSTAMP:20260420T144713
CREATED:20210611T085853Z
LAST-MODIFIED:20231217T203823Z
UID:1513-1706695200-1706702400@szkoleniadlabibliotekarzy.sbp.pl
SUMMARY:Używanie mediów społecznościowych zgodnie z przepisami prawa
DESCRIPTION:Szkolenie poprowadzi Maciej Celiński \nOpis szkolenia i zapisy \n 
URL:https://szkoleniadlabibliotekarzy.sbp.pl/event/uzywanie-mediow-spolecznosciowych-zgodnie-z-przepisami-prawa/
CATEGORIES:Szkolenia online
ATTACH;FMTTYPE=image/jpeg:https://szkoleniadlabibliotekarzy.sbp.pl/wp-content/uploads/2021/06/rodo_social.jpg
END:VEVENT
BEGIN:VEVENT
DTSTART;TZID=Europe/Warsaw:20240130T100000
DTEND;TZID=Europe/Warsaw:20240130T120000
DTSTAMP:20260420T144713
CREATED:20230727T110717Z
LAST-MODIFIED:20231227T084720Z
UID:3353-1706608800-1706616000@szkoleniadlabibliotekarzy.sbp.pl
SUMMARY:Sztuka rozmowy o książkach\, autorach i zjawiskach literackich. Sprawdzone pomysły integrujące i angażujące czytelników
DESCRIPTION:Szkolenie poprowadzi dr Wanda Matras-Mastalerz \nOpis szkolenia i zapisy
URL:https://szkoleniadlabibliotekarzy.sbp.pl/event/sztuka-rozmowy-o-ksiazkach-autorach-i-zjawiskach-literackich-sprawdzone-pomysly-integrujace-i-angazujace-czytelnikow/
ATTACH;FMTTYPE=image/png:https://szkoleniadlabibliotekarzy.sbp.pl/wp-content/uploads/2023/07/sztuka-rozmowy.png
END:VEVENT
BEGIN:VEVENT
DTSTART;TZID=Europe/Warsaw:20240124T120000
DTEND;TZID=Europe/Warsaw:20240124T143000
DTSTAMP:20260420T144713
CREATED:20231010T120007Z
LAST-MODIFIED:20231218T194845Z
UID:3451-1706097600-1706106600@szkoleniadlabibliotekarzy.sbp.pl
SUMMARY:RODO w małych i średnich bibliotekach
DESCRIPTION:Szkolenie poprowadzi Maciej Celiński \n  \nOpis szkolenia i zapisy \n 
URL:https://szkoleniadlabibliotekarzy.sbp.pl/event/rodo-w-malych-i-srednich-bibliotekach/
END:VEVENT
BEGIN:VEVENT
DTSTART;TZID=Europe/Warsaw:20240116T100000
DTEND;TZID=Europe/Warsaw:20240116T123000
DTSTAMP:20260420T144713
CREATED:20221227T130221Z
LAST-MODIFIED:20231103T093836Z
UID:2808-1705399200-1705408200@szkoleniadlabibliotekarzy.sbp.pl
SUMMARY:Wprowadzenie do organizacji wiedzy
DESCRIPTION:Szkolenie poprowadzi dr Bartłomiej Włodarczyk \nOpis szkolenia i zapisy
URL:https://szkoleniadlabibliotekarzy.sbp.pl/event/wprowadzenie-do-organizacji-wiedzy/
CATEGORIES:Szkolenia online
ATTACH;FMTTYPE=image/png:https://szkoleniadlabibliotekarzy.sbp.pl/wp-content/uploads/2023/02/1.png
END:VEVENT
BEGIN:VEVENT
DTSTART;TZID=Europe/Warsaw:20240110T130000
DTEND;TZID=Europe/Warsaw:20240110T150000
DTSTAMP:20260420T144713
CREATED:20220407T122116Z
LAST-MODIFIED:20231025T195352Z
UID:2364-1704891600-1704898800@szkoleniadlabibliotekarzy.sbp.pl
SUMMARY:Tik Tok\, stories\, rolki – najnowsze formy promocji
DESCRIPTION:Szkolenie poprowadzi Rafał Hetman \nOpis szkolenia i zapisy
URL:https://szkoleniadlabibliotekarzy.sbp.pl/event/tik-tok-stories-rolki-najnowsze-formy-promocji-w-2022-roku-2/
CATEGORIES:Szkolenia online
ATTACH;FMTTYPE=image/jpeg:https://szkoleniadlabibliotekarzy.sbp.pl/wp-content/uploads/2020/03/tik_tok_rolki.jpg
END:VEVENT
BEGIN:VEVENT
DTSTART;TZID=Europe/Warsaw:20230619T100000
DTEND;TZID=Europe/Warsaw:20230619T120000
DTSTAMP:20260420T144713
CREATED:20230213T063703Z
LAST-MODIFIED:20230616T085547Z
UID:2945-1687168800-1687176000@szkoleniadlabibliotekarzy.sbp.pl
SUMMARY:Książka uczy\, bawi\, wychowuje. Twórcze metody pracy z dziećmi w bibliotece
DESCRIPTION:Szkolenie poprowadzi dr Wanda Matras-Mastalerz \nOpis szkolenia i zapisy
URL:https://szkoleniadlabibliotekarzy.sbp.pl/event/ksiazka-uczy-bawi-wychowuje-tworcze-metody-pracy-z-dziecmi-w-bibliotece/
CATEGORIES:Szkolenia online
ATTACH;FMTTYPE=image/png:https://szkoleniadlabibliotekarzy.sbp.pl/wp-content/uploads/2023/02/3.png
END:VEVENT
BEGIN:VEVENT
DTSTART;TZID=Europe/Warsaw:20230616T100000
DTEND;TZID=Europe/Warsaw:20230616T123000
DTSTAMP:20260420T144713
CREATED:20210423T070855Z
LAST-MODIFIED:20230517T085642Z
UID:688-1686909600-1686918600@szkoleniadlabibliotekarzy.sbp.pl
SUMMARY:Trening redukcji stresu opartej na uważności - Mindfulness 
DESCRIPTION:Szkolenie poprowadzi Gabriela Gamrowska \n\n  Opis szkolenia i zapisy
URL:https://szkoleniadlabibliotekarzy.sbp.pl/event/spotkania-antystresowe-powal-stres-na-lopatki/
CATEGORIES:Szkolenia online
ATTACH;FMTTYPE=image/jpeg:https://szkoleniadlabibliotekarzy.sbp.pl/wp-content/uploads/2020/11/mind.jpg
END:VEVENT
BEGIN:VEVENT
DTSTART;TZID=Europe/Warsaw:20230612T100000
DTEND;TZID=Europe/Warsaw:20230612T120000
DTSTAMP:20260420T144713
CREATED:20230310T102004Z
LAST-MODIFIED:20230320T135101Z
UID:3088-1686564000-1686571200@szkoleniadlabibliotekarzy.sbp.pl
SUMMARY:Realizacja przepisów RODO w działaniach DKK
DESCRIPTION:Szkolenie poprowadzi dr Łukasz Wojciechowski \nOpis szkolenia i zapisy
URL:https://szkoleniadlabibliotekarzy.sbp.pl/event/realizacja-przepisow-rodo-w-dzialaniach-dkk/
LOCATION:Online
CATEGORIES:Szkolenia online
ATTACH;FMTTYPE=image/png:https://szkoleniadlabibliotekarzy.sbp.pl/wp-content/uploads/2023/03/rodo-w-DKK_1.png
END:VEVENT
BEGIN:VEVENT
DTSTART;TZID=Europe/Warsaw:20230606T100000
DTEND;TZID=Europe/Warsaw:20230606T120000
DTSTAMP:20260420T144713
CREATED:20230403T183707Z
LAST-MODIFIED:20230524T111112Z
UID:2829-1686045600-1686052800@szkoleniadlabibliotekarzy.sbp.pl
SUMMARY:Podróże po literaturze. Synergia słowa i obrazu w opowieściach wielokulturowych
DESCRIPTION:Szkolenie poprowadzi dr Wanda Matras-Mastalerz \nOpis szkolenia i zapisy
URL:https://szkoleniadlabibliotekarzy.sbp.pl/event/podroze-po-literaturze-synergia-slowa-i-obrazu-w-opowiesciach-wielokulturowych/
CATEGORIES:Szkolenia online
ATTACH;FMTTYPE=image/png:https://szkoleniadlabibliotekarzy.sbp.pl/wp-content/uploads/2023/02/1-1.png
END:VEVENT
END:VCALENDAR