BEGIN:VCALENDAR
VERSION:2.0
PRODID:-//Szkolenia SBP dla Bibliotekarzy - ECPv5.16.1.1//NONSGML v1.0//EN
CALSCALE:GREGORIAN
METHOD:PUBLISH
X-ORIGINAL-URL:https://szkoleniadlabibliotekarzy.sbp.pl
X-WR-CALDESC:Events for Szkolenia SBP dla Bibliotekarzy
REFRESH-INTERVAL;VALUE=DURATION:PT1H
X-Robots-Tag:noindex
X-PUBLISHED-TTL:PT1H
BEGIN:VTIMEZONE
TZID:Europe/Warsaw
BEGIN:DAYLIGHT
TZOFFSETFROM:+0100
TZOFFSETTO:+0200
TZNAME:CEST
DTSTART:20260329T010000
END:DAYLIGHT
BEGIN:STANDARD
TZOFFSETFROM:+0200
TZOFFSETTO:+0100
TZNAME:CET
DTSTART:20261025T010000
END:STANDARD
END:VTIMEZONE
BEGIN:VEVENT
DTSTART;TZID=Europe/Warsaw:20260114T150000
DTEND;TZID=Europe/Warsaw:20260304T170000
DTSTAMP:20260420T125709
CREATED:20220923T112110Z
LAST-MODIFIED:20251128T122602Z
UID:2625-1768402800-1772643600@szkoleniadlabibliotekarzy.sbp.pl
SUMMARY:Format MARC21 – kurs online
DESCRIPTION:Kurs poprowadzi Agata Kyzioł-Cieślak \nOpis szkolenia i zapisy
URL:https://szkoleniadlabibliotekarzy.sbp.pl/event/format-marc21-kurs-online-4-edycja/
LOCATION:Online
CATEGORIES:Kurs online,Szkolenia online
ATTACH;FMTTYPE=image/jpeg:https://szkoleniadlabibliotekarzy.sbp.pl/wp-content/uploads/2021/02/marc21.jpg
END:VEVENT
BEGIN:VEVENT
DTSTART;TZID=Europe/Warsaw:20260304T100000
DTEND;TZID=Europe/Warsaw:20260304T120000
DTSTAMP:20260420T125709
CREATED:20241001T092815Z
LAST-MODIFIED:20260105T141351Z
UID:4043-1772618400-1772625600@szkoleniadlabibliotekarzy.sbp.pl
SUMMARY:Biblioteka w obliczu współczesnych zagrożeń i cyberzagrożeń
DESCRIPTION:Szkolenie prowadzi dr Łukasz Wojciechowski \nOpis szkolenia i zapisy
URL:https://szkoleniadlabibliotekarzy.sbp.pl/event/biblioteka-w-obliczu-wspolczesnych-zagrozen-i-cyberzagrozen/
LOCATION:Online
CATEGORIES:Szkolenia online
ATTACH;FMTTYPE=image/png:https://szkoleniadlabibliotekarzy.sbp.pl/wp-content/uploads/2025/03/cyberbezpieczenstwo.png
END:VEVENT
BEGIN:VEVENT
DTSTART;TZID=Europe/Warsaw:20260309T100000
DTEND;TZID=Europe/Warsaw:20260309T120000
DTSTAMP:20260420T125709
CREATED:20250910T094708Z
LAST-MODIFIED:20251229T115004Z
UID:4959-1773050400-1773057600@szkoleniadlabibliotekarzy.sbp.pl
SUMMARY:Żywioły w bibliotece – woda
DESCRIPTION:Szkolenie prowadzi: Mateusz Paradowski \nOpis szkolenia i zapisy
URL:https://szkoleniadlabibliotekarzy.sbp.pl/event/zywioly-w-bibliotece-woda/
LOCATION:Online
CATEGORIES:Szkolenia online
ATTACH;FMTTYPE=image/png:https://szkoleniadlabibliotekarzy.sbp.pl/wp-content/uploads/2025/09/zywioly_woda.png
END:VEVENT
BEGIN:VEVENT
DTSTART;TZID=Europe/Warsaw:20260311T100000
DTEND;TZID=Europe/Warsaw:20260311T120000
DTSTAMP:20260420T125709
CREATED:20251215T131045Z
LAST-MODIFIED:20260210T141734Z
UID:5152-1773223200-1773230400@szkoleniadlabibliotekarzy.sbp.pl
SUMMARY:Kontrole i audyty w bibliotece publicznej — obowiązki\, uprawnienia\, procedury
DESCRIPTION:Szkolenie prowadzi dr Łukasz Wojciechowski \nOpis szkolenia i zapisy
URL:https://szkoleniadlabibliotekarzy.sbp.pl/event/kontrole-i-audyty-w-bibliotece-publicznej-obowiazki-uprawnienia-procedury/
LOCATION:Online
CATEGORIES:Szkolenia online
ATTACH;FMTTYPE=image/png:https://szkoleniadlabibliotekarzy.sbp.pl/wp-content/uploads/2025/12/kontrole_audyt.png
END:VEVENT
BEGIN:VEVENT
DTSTART;TZID=Europe/Warsaw:20260312T110000
DTEND;TZID=Europe/Warsaw:20260312T140000
DTSTAMP:20260420T125709
CREATED:20260221T181700Z
LAST-MODIFIED:20260221T181700Z
UID:5366-1773313200-1773324000@szkoleniadlabibliotekarzy.sbp.pl
SUMMARY:Hejt i przemoc “na niby”\, ranią naprawdę
DESCRIPTION:Szkolenie prowadzą Katarzyna Majchrzak i Agata Kyzioł-Cieślak \nOpis szkolenia i zapisy
URL:https://szkoleniadlabibliotekarzy.sbp.pl/event/hejt-i-przemoc-na-niby-rania-naprawde/
LOCATION:Online
CATEGORIES:Szkolenia online
ATTACH;FMTTYPE=image/png:https://szkoleniadlabibliotekarzy.sbp.pl/wp-content/uploads/2026/02/hejt_akademiasbp.png
END:VEVENT
BEGIN:VEVENT
DTSTART;TZID=Europe/Warsaw:20260317T123000
DTEND;TZID=Europe/Warsaw:20260317T143000
DTSTAMP:20260420T125709
CREATED:20251031T141154Z
LAST-MODIFIED:20260227T104639Z
UID:5118-1773750600-1773757800@szkoleniadlabibliotekarzy.sbp.pl
SUMMARY:KSeF w bibliotece\, czyli jak obsługiwać e-faktury po 1 lutego 2026 roku
DESCRIPTION:Szkolenie prowadzi Karol Cichoński \nOpis szkolenia i zapisy
URL:https://szkoleniadlabibliotekarzy.sbp.pl/event/ksef-w-bibliotece-czyli-jak-obslugiwac-e-faktury-po-1-lutego-2026-roku/
LOCATION:Online
CATEGORIES:Szkolenia online
ATTACH;FMTTYPE=image/png:https://szkoleniadlabibliotekarzy.sbp.pl/wp-content/uploads/2025/10/KSeF_1200px.png
END:VEVENT
BEGIN:VEVENT
DTSTART;TZID=Europe/Warsaw:20260318T100000
DTEND;TZID=Europe/Warsaw:20260318T120000
DTSTAMP:20260420T125709
CREATED:20250422T093055Z
LAST-MODIFIED:20260105T141435Z
UID:4583-1773828000-1773835200@szkoleniadlabibliotekarzy.sbp.pl
SUMMARY:Mobbing w bibliotece – obowiązki prawne z wzorami dokumentów
DESCRIPTION:Szkolenie prowadzi dr Łukasz Wojciechowski \nOpis szkolenia i zapisy
URL:https://szkoleniadlabibliotekarzy.sbp.pl/event/mobbing-w-bibliotece-obowiazki-prawne-z-wzorami-dokumentow/
LOCATION:Online
CATEGORIES:Szkolenia online
ATTACH;FMTTYPE=image/png:https://szkoleniadlabibliotekarzy.sbp.pl/wp-content/uploads/2025/04/mobbing_platny.png
END:VEVENT
BEGIN:VEVENT
DTSTART;TZID=Europe/Warsaw:20260318T150000
DTEND;TZID=Europe/Warsaw:20260318T170000
DTSTAMP:20260420T125709
CREATED:20260115T113520Z
LAST-MODIFIED:20260115T113520Z
UID:5271-1773846000-1773853200@szkoleniadlabibliotekarzy.sbp.pl
SUMMARY:Opracowanie formalne dokumentów dźwiękowych z elementami formatu MARC21
DESCRIPTION:Szkolenie prowadzi Agata Kyzioł-Cieślak \nOpis szkolenia i zapisy
URL:https://szkoleniadlabibliotekarzy.sbp.pl/event/opracowanie-formalne-dokumentow-dzwiekowych-z-elementami-formatu-marc21/
LOCATION:Online
CATEGORIES:Szkolenia online
ATTACH;FMTTYPE=image/png:https://szkoleniadlabibliotekarzy.sbp.pl/wp-content/uploads/2025/04/opracowanie-dokumentow-dzwiekowych.png
END:VEVENT
BEGIN:VEVENT
DTSTART;TZID=Europe/Warsaw:20260325T150000
DTEND;TZID=Europe/Warsaw:20260325T170000
DTSTAMP:20260420T125709
CREATED:20260217T081411Z
LAST-MODIFIED:20260217T135437Z
UID:5353-1774450800-1774458000@szkoleniadlabibliotekarzy.sbp.pl
SUMMARY:DBN - opracowanie literatury pięknej\, literatury dla dzieci i młodzieży\, komiksów oraz piśmiennictwa o literaturze
DESCRIPTION:Szkolenie prowadzi Agata Kyzioł-Cieślak \nOpis szkolenia i zapisy
URL:https://szkoleniadlabibliotekarzy.sbp.pl/event/dbn-opracowanie-literatury-pieknej-literatury-dla-dzieci-i-mlodziezy-komiksow-oraz-pismiennictwa-o-literaturze/
LOCATION:Online
CATEGORIES:Szkolenia online
ATTACH;FMTTYPE=image/png:https://szkoleniadlabibliotekarzy.sbp.pl/wp-content/uploads/2026/02/DBN_komiks1.png
END:VEVENT
BEGIN:VEVENT
DTSTART;TZID=Europe/Warsaw:20260326T100000
DTEND;TZID=Europe/Warsaw:20260326T120000
DTSTAMP:20260420T125709
CREATED:20250616T050854Z
LAST-MODIFIED:20260219T091613Z
UID:4785-1774519200-1774526400@szkoleniadlabibliotekarzy.sbp.pl
SUMMARY:Dostępne treści na stronach internetowych i w mediach społecznościowych
DESCRIPTION:Szkolenie prowadzi Magdalena Rusnok \nOpis szkolenia i zapisy
URL:https://szkoleniadlabibliotekarzy.sbp.pl/event/dostepne-tresci-na-stronach-internetowych-i-w-mediach-spolecznosciowych/
LOCATION:Online
CATEGORIES:Szkolenia online
ATTACH;FMTTYPE=image/png:https://szkoleniadlabibliotekarzy.sbp.pl/wp-content/uploads/2025/06/Dostepnosc.png
END:VEVENT
END:VCALENDAR