BEGIN:VCALENDAR
VERSION:2.0
PRODID:-//Szkolenia SBP dla Bibliotekarzy - ECPv5.16.1.1//NONSGML v1.0//EN
CALSCALE:GREGORIAN
METHOD:PUBLISH
X-ORIGINAL-URL:https://szkoleniadlabibliotekarzy.sbp.pl
X-WR-CALDESC:Events for Szkolenia SBP dla Bibliotekarzy
REFRESH-INTERVAL;VALUE=DURATION:PT1H
X-Robots-Tag:noindex
X-PUBLISHED-TTL:PT1H
BEGIN:VTIMEZONE
TZID:Europe/Warsaw
BEGIN:DAYLIGHT
TZOFFSETFROM:+0100
TZOFFSETTO:+0200
TZNAME:CEST
DTSTART:20260329T010000
END:DAYLIGHT
BEGIN:STANDARD
TZOFFSETFROM:+0200
TZOFFSETTO:+0100
TZNAME:CET
DTSTART:20261025T010000
END:STANDARD
END:VTIMEZONE
BEGIN:VEVENT
DTSTART;TZID=Europe/Warsaw:20260522T100000
DTEND;TZID=Europe/Warsaw:20260522T120000
DTSTAMP:20260424T100526
CREATED:20250422T093055Z
LAST-MODIFIED:20260422T131055Z
UID:4583-1779444000-1779451200@szkoleniadlabibliotekarzy.sbp.pl
SUMMARY:Mobbing w bibliotece – obowiązki prawne z wzorami dokumentów
DESCRIPTION:Szkolenie prowadzi dr Łukasz Wojciechowski \nOpis szkolenia i zapisy
URL:https://szkoleniadlabibliotekarzy.sbp.pl/event/mobbing-w-bibliotece-obowiazki-prawne-z-wzorami-dokumentow/
LOCATION:Online
CATEGORIES:Szkolenia online
ATTACH;FMTTYPE=image/png:https://szkoleniadlabibliotekarzy.sbp.pl/wp-content/uploads/2025/04/mobbing_platny.png
END:VEVENT
END:VCALENDAR