BEGIN:VCALENDAR
VERSION:2.0
PRODID:-//Szkolenia SBP dla Bibliotekarzy - ECPv5.16.1.1//NONSGML v1.0//EN
CALSCALE:GREGORIAN
METHOD:PUBLISH
X-WR-CALNAME:Szkolenia SBP dla Bibliotekarzy
X-ORIGINAL-URL:https://szkoleniadlabibliotekarzy.sbp.pl
X-WR-CALDESC:Events for Szkolenia SBP dla Bibliotekarzy
REFRESH-INTERVAL;VALUE=DURATION:PT1H
X-Robots-Tag:noindex
X-PUBLISHED-TTL:PT1H
BEGIN:VTIMEZONE
TZID:Europe/Warsaw
BEGIN:DAYLIGHT
TZOFFSETFROM:+0100
TZOFFSETTO:+0200
TZNAME:CEST
DTSTART:20250330T010000
END:DAYLIGHT
BEGIN:STANDARD
TZOFFSETFROM:+0200
TZOFFSETTO:+0100
TZNAME:CET
DTSTART:20251026T010000
END:STANDARD
END:VTIMEZONE
BEGIN:VEVENT
DTSTART;TZID=Europe/Warsaw:20251022T100000
DTEND;TZID=Europe/Warsaw:20251022T123000
DTSTAMP:20260424T100527
CREATED:20250616T050847Z
LAST-MODIFIED:20250926T194725Z
UID:4780-1761127200-1761136200@szkoleniadlabibliotekarzy.sbp.pl
SUMMARY:Repozytoria cyfrowe w instytucjach nauki
DESCRIPTION:Szkolenie prowadzi dr Leszek Szafrański \nOpis szkolenia i zapisy
URL:https://szkoleniadlabibliotekarzy.sbp.pl/event/repozytoria-cyfrowe-w-instytucjach-nauki/
LOCATION:Online
CATEGORIES:Szkolenia online
ATTACH;FMTTYPE=image/png:https://szkoleniadlabibliotekarzy.sbp.pl/wp-content/uploads/2025/06/repozytoria-cyfrowe.png
END:VEVENT
END:VCALENDAR