BEGIN:VCALENDAR
VERSION:2.0
PRODID:-//Szkolenia SBP dla Bibliotekarzy - ECPv5.16.1.1//NONSGML v1.0//EN
CALSCALE:GREGORIAN
METHOD:PUBLISH
X-ORIGINAL-URL:https://szkoleniadlabibliotekarzy.sbp.pl
X-WR-CALDESC:Events for Szkolenia SBP dla Bibliotekarzy
REFRESH-INTERVAL;VALUE=DURATION:PT1H
X-Robots-Tag:noindex
X-PUBLISHED-TTL:PT1H
BEGIN:VTIMEZONE
TZID:Europe/Warsaw
BEGIN:DAYLIGHT
TZOFFSETFROM:+0100
TZOFFSETTO:+0200
TZNAME:CEST
DTSTART:20250330T010000
END:DAYLIGHT
BEGIN:STANDARD
TZOFFSETFROM:+0200
TZOFFSETTO:+0100
TZNAME:CET
DTSTART:20251026T010000
END:STANDARD
END:VTIMEZONE
BEGIN:VEVENT
DTSTART;TZID=Europe/Warsaw:20251105T130000
DTEND;TZID=Europe/Warsaw:20251105T150000
DTSTAMP:20260420T155902
CREATED:20250616T050804Z
LAST-MODIFIED:20251002T082530Z
UID:4801-1762347600-1762354800@szkoleniadlabibliotekarzy.sbp.pl
SUMMARY:AI w bibliotece? Tak\, i to za darmo! Szkolenie z bezpłatnych narzędzi sztucznej inteligencji do pracy w bibliotece
DESCRIPTION:Szkolenie prowadzi Rafał Hetman \nOpis szkolenia i zapisy
URL:https://szkoleniadlabibliotekarzy.sbp.pl/event/ai-w-bibliotece-tak-i-to-za-darmo-szkolenie-z-bezplatnych-narzedzi-sztucznej-inteligencji-do-pracy-w-bibliotece/
LOCATION:Online
CATEGORIES:Szkolenia online
ATTACH;FMTTYPE=image/png:https://szkoleniadlabibliotekarzy.sbp.pl/wp-content/uploads/2025/06/AI-w-bibliotece.png
END:VEVENT
END:VCALENDAR