BEGIN:VCALENDAR
VERSION:2.0
PRODID:-//Szkolenia SBP dla Bibliotekarzy - ECPv5.16.1.1//NONSGML v1.0//EN
CALSCALE:GREGORIAN
METHOD:PUBLISH
X-WR-CALNAME:Szkolenia SBP dla Bibliotekarzy
X-ORIGINAL-URL:https://szkoleniadlabibliotekarzy.sbp.pl
X-WR-CALDESC:Events for Szkolenia SBP dla Bibliotekarzy
REFRESH-INTERVAL;VALUE=DURATION:PT1H
X-Robots-Tag:noindex
X-PUBLISHED-TTL:PT1H
BEGIN:VTIMEZONE
TZID:Europe/Warsaw
BEGIN:DAYLIGHT
TZOFFSETFROM:+0100
TZOFFSETTO:+0200
TZNAME:CEST
DTSTART:20260329T010000
END:DAYLIGHT
BEGIN:STANDARD
TZOFFSETFROM:+0200
TZOFFSETTO:+0100
TZNAME:CET
DTSTART:20261025T010000
END:STANDARD
END:VTIMEZONE
BEGIN:VEVENT
DTSTART;TZID=Europe/Warsaw:20260424T090000
DTEND;TZID=Europe/Warsaw:20260424T110000
DTSTAMP:20260420T103222
CREATED:20250616T050824Z
LAST-MODIFIED:20260215T193530Z
UID:4768-1777021200-1777028400@szkoleniadlabibliotekarzy.sbp.pl
SUMMARY:Weryfikacja informacji w dobie sztucznej inteligencji: narzędzia i metody
DESCRIPTION:Szkolenie prowadzi Gabriela Sieczkowska \nOpis szkolenia i zapisy
URL:https://szkoleniadlabibliotekarzy.sbp.pl/event/weryfikacja-informacji-w-dobie-sztucznej-inteligencji-narzedzia-i-metody/
LOCATION:Online
CATEGORIES:Szkolenia online
ATTACH;FMTTYPE=image/png:https://szkoleniadlabibliotekarzy.sbp.pl/wp-content/uploads/2025/02/weryfikacja-informacji.png
END:VEVENT
END:VCALENDAR