BEGIN:VCALENDAR
VERSION:2.0
PRODID:-//Szkolenia SBP dla Bibliotekarzy - ECPv5.16.1.1//NONSGML v1.0//EN
CALSCALE:GREGORIAN
METHOD:PUBLISH
X-WR-CALNAME:Szkolenia SBP dla Bibliotekarzy
X-ORIGINAL-URL:https://szkoleniadlabibliotekarzy.sbp.pl
X-WR-CALDESC:Events for Szkolenia SBP dla Bibliotekarzy
REFRESH-INTERVAL;VALUE=DURATION:PT1H
X-Robots-Tag:noindex
X-PUBLISHED-TTL:PT1H
BEGIN:VTIMEZONE
TZID:Europe/Warsaw
BEGIN:DAYLIGHT
TZOFFSETFROM:+0100
TZOFFSETTO:+0200
TZNAME:CEST
DTSTART:20260329T010000
END:DAYLIGHT
BEGIN:STANDARD
TZOFFSETFROM:+0200
TZOFFSETTO:+0100
TZNAME:CET
DTSTART:20261025T010000
END:STANDARD
END:VTIMEZONE
BEGIN:VEVENT
DTSTART;TZID=Europe/Warsaw:20260420T100000
DTEND;TZID=Europe/Warsaw:20260420T120000
DTSTAMP:20260420T125922
CREATED:20260105T135543Z
LAST-MODIFIED:20260318T124712Z
UID:5216-1776679200-1776686400@szkoleniadlabibliotekarzy.sbp.pl
SUMMARY:Kreatywny bibliotekarz animatorem twórczych projektów
DESCRIPTION:Szkolenie prowadzi dr Wanda Matras-Mastalerz \nOpis szkolenia i zapisy
URL:https://szkoleniadlabibliotekarzy.sbp.pl/event/kreatywny-bibliotekarz-animatorem-tworczych-projektow/
LOCATION:Online
CATEGORIES:Szkolenia online
ATTACH;FMTTYPE=image/png:https://szkoleniadlabibliotekarzy.sbp.pl/wp-content/uploads/2026/01/kreatywny-bibliotekarz.png
END:VEVENT
END:VCALENDAR